BEGIN:VCALENDAR
VERSION:2.0
PRODID:-//wp-events-plugin.com//7.0.5//EN
TZID:America/Los_Angeles
X-WR-TIMEZONE:America/Los_Angeles
BEGIN:VEVENT
UID:1010@newportbeach.com
DTSTART;TZID=America/Los_Angeles:20180524T170000
DTEND;TZID=America/Los_Angeles:20180524T190000
DTSTAMP:20180517T192620Z
URL:https://www.newportbeach.com/events/leadership-heels-breaking-glass-ce
 iling/
SUMMARY:Leadership in Heels: Breaking the Glass Ceiling
DESCRIPTION:
CATEGORIES:Local Events
LOCATION:Pacific Club\, 4100 MacArthur Blvd.\, Newport Beach\, CA\, 92660\,
  United States
GEO:33.663327;-117.862482
X-APPLE-STRUCTURED-LOCATION;VALUE=URI;X-ADDRESS=4100 MacArthur Blvd.\, Newp
 ort Beach\, CA\, 92660\, United States;X-APPLE-RADIUS=100;X-TITLE=Pacific 
 Club:geo:33.663327,-117.862482
END:VEVENT
BEGIN:VTIMEZONE
TZID:America/Los_Angeles
X-LIC-LOCATION:America/Los_Angeles
BEGIN:DAYLIGHT
DTSTART:20180311T030000
TZOFFSETFROM:-0800
TZOFFSETTO:-0700
TZNAME:PDT
END:DAYLIGHT
END:VTIMEZONE
END:VCALENDAR