BEGIN:VCALENDAR
VERSION:2.0
PRODID:-//wp-events-plugin.com//7.0.5//EN
TZID:America/Los_Angeles
X-WR-TIMEZONE:America/Los_Angeles
BEGIN:VEVENT
UID:786@newportbeach.com
DTSTART;TZID=America/Los_Angeles;VALUE=DATE:20171102
DTEND;TZID=America/Los_Angeles;VALUE=DATE:20171103
DTSTAMP:20171016T195902Z
URL:https://www.newportbeach.com/events/le-diner-en-blanc/
SUMMARY:Le Diner en Blanc
DESCRIPTION:\nFor more information visit orangecounty.dinerenblanc.com
CATEGORIES:Local Events
LOCATION:Orange County\,   \,   \, United States
GEO:37.09024;-95.71289100000001
X-APPLE-STRUCTURED-LOCATION;VALUE=URI;X-ADDRESS=  \,   \, United States;X-A
 PPLE-RADIUS=100;X-TITLE=Orange County:geo:37.09024,-95.71289100000001
END:VEVENT
BEGIN:VTIMEZONE
TZID:America/Los_Angeles
X-LIC-LOCATION:America/Los_Angeles
BEGIN:DAYLIGHT
DTSTART:20170312T030000
TZOFFSETFROM:-0800
TZOFFSETTO:-0700
TZNAME:PDT
END:DAYLIGHT
END:VTIMEZONE
END:VCALENDAR