BEGIN:VCALENDAR
VERSION:2.0
PRODID:-//wp-events-plugin.com//7.0.5//EN
TZID:America/Los_Angeles
X-WR-TIMEZONE:America/Los_Angeles
BEGIN:VEVENT
UID:2125@newportbeach.com
DTSTART;TZID=America/Los_Angeles:20240619T113000
DTEND;TZID=America/Los_Angeles:20240619T133000
DTSTAMP:20240521T195607Z
URL:https://www.newportbeach.com/events/june-networking-luncheon-series-he
 lmsman-ale-house/
SUMMARY:June Networking Luncheon Series - Helmsman Ale House
DESCRIPTION:[vc_row][vc_column][vc_custom_heading text="Limited to 50 atten
 dees.\nReserve Your Spot Early!\nUse the form below." font_container="tag:
 h2|font_size:36|text_align:center" use_theme_fonts="yes"][/vc_column][/vc_
 row][vc_row][vc_column][vc_single_image image="623868" img_size="full" ali
 gnment="center" onclick="img_link_large" img_link_target="_blank"][/vc_col
 umn][/vc_row][vc_row disable_element="yes"][vc_column][vc_text_separator t
 itle="Featured Guest Speaker" border_width="2"][/vc_column][/vc_row][vc_ro
 w disable_element="yes"][vc_column][vc_column_text]\n\nNada Lena Nasserdee
 n\nMA Executive Leadership\nTEDx Talk Speaker\n[/vc_column_text][vc_column
 _text]Nada Lena is the founder and CEO of Rise Up For You\, an educational
  and motivational company focusing on enhancing company culture and people
  development through teaching soft skills\, aka human skills. She is an Ex
 ecutive Leadership and Career Confidence Coach\, Post-Secondary Educator\,
  Motivational and TEDx Talk Speaker\, and Advocate for Youth Empowerment.\
 nWith over 10 years experience as a college professor and former top execu
 tive for an education corporation\, Nada has been featured on over 50 podc
 asts and radio shows and has also been a motivational and educational spea
 ker on platforms such as TEDx Talks.[/vc_column_text][/vc_column][/vc_row]
 [vc_row disable_element="yes"][vc_column][vc_custom_heading text="What’s
  your social media status? Is it strong and healthy or weak and old? Are y
 ou part of the online community or sitting on the sidelines watching it? G
 et in the biggest game in business!\n\nCome find out the latest strategies
  and insider information on social media and how you can best use it to am
 plify your brand.\n\nIn today’s business world\, social media has become
  the most important factor in your brand’s power and marketing success. 
 Social media and digital marketing have made us a global world which provi
 des massive opportunities for companies who know how to use it effectively
 .\n\n• Power of IG\, FB and Influencers and current marketplace\n• Pos
 ting basics - if you’re not consistent\, you’re invisible\n• Creativ
 e strategies that work\n• Measure your success - how to make social medi
 a quantifiable" font_container="tag:p|font_size:24|text_align:left" use_th
 eme_fonts="yes"][/vc_column][/vc_row][vc_row disable_element="yes"][vc_col
 umn width="1/2"][vc_text_separator title="Key Topic Areas" border_width="2
 "][/vc_column][vc_column width="1/2"][vc_text_separator title="Sponsored b
 y" border_width="2"][/vc_column][/vc_row]
ATTACH;FMTTYPE=image/jpeg:https://www.newportbeach.com/wp-content/uploads/
 2024/05/Luncheon-June-19-2024-networking-Helmsman-Ale-House-300x300-1.jpg
CATEGORIES:Chamber Events,Featured
LOCATION:Helmsman Ale House\, 2920 Newport Blvd.\, Newport Beach\, CA\, 926
 63\, United States
X-APPLE-STRUCTURED-LOCATION;VALUE=URI;X-ADDRESS=2920 Newport Blvd.\, Newpor
 t Beach\, CA\, 92663\, United States;X-APPLE-RADIUS=100;X-TITLE=Helmsman A
 le House:geo:0,0
END:VEVENT
BEGIN:VTIMEZONE
TZID:America/Los_Angeles
X-LIC-LOCATION:America/Los_Angeles
BEGIN:DAYLIGHT
DTSTART:20240310T030000
TZOFFSETFROM:-0800
TZOFFSETTO:-0700
TZNAME:PDT
END:DAYLIGHT
END:VTIMEZONE
END:VCALENDAR