BEGIN:VCALENDAR
VERSION:2.0
PRODID:-//wp-events-plugin.com//7.0.5//EN
TZID:America/Los_Angeles
X-WR-TIMEZONE:America/Los_Angeles
BEGIN:VEVENT
UID:2138@newportbeach.com
DTSTART;TZID=America/Los_Angeles:20240717T113000
DTEND;TZID=America/Los_Angeles:20240717T133000
DTSTAMP:20240711T200310Z
URL:https://www.newportbeach.com/events/july-networking-luncheon-series-il
 -farro-caffe-trattoria/
SUMMARY:July Networking Luncheon Series - Il Farro Caffe Trattoria
DESCRIPTION:[vc_row][vc_column][vc_custom_heading text="Limited to 50 atten
 dees.\nReserve Your Spot Early!\nUse the form below." font_container="tag:
 h2|font_size:36|text_align:center" use_theme_fonts="yes"][/vc_column][/vc_
 row][vc_row][vc_column][vc_single_image image="624458" img_size="full" ali
 gnment="center" onclick="img_link_large" img_link_target="_blank"][/vc_col
 umn][/vc_row][vc_row][vc_column][gravityform id="261" title="false" descri
 ption="false" ajax="false"][/vc_column][/vc_row][vc_row disable_element="y
 es"][vc_column][vc_text_separator title="Featured Guest Speaker" border_wi
 dth="2"][/vc_column][/vc_row][vc_row disable_element="yes"][vc_column][vc_
 column_text]\n\nNada Lena Nasserdeen\nMA Executive Leadership\nTEDx Talk S
 peaker\n[/vc_column_text][vc_column_text]Nada Lena is the founder and CEO 
 of Rise Up For You\, an educational and motivational company focusing on e
 nhancing company culture and people development through teaching soft skil
 ls\, aka human skills. She is an Executive Leadership and Career Confidenc
 e Coach\, Post-Secondary Educator\, Motivational and TEDx Talk Speaker\, a
 nd Advocate for Youth Empowerment.\nWith over 10 years experience as a col
 lege professor and former top executive for an education corporation\, Nad
 a has been featured on over 50 podcasts and radio shows and has also been 
 a motivational and educational speaker on platforms such as TEDx Talks.[/v
 c_column_text][/vc_column][/vc_row][vc_row disable_element="yes"][vc_colum
 n][vc_custom_heading text="What’s your social media status? Is it strong
  and healthy or weak and old? Are you part of the online community or sitt
 ing on the sidelines watching it? Get in the biggest game in business!\n\n
 Come find out the latest strategies and insider information on social medi
 a and how you can best use it to amplify your brand.\n\nIn today’s busin
 ess world\, social media has become the most important factor in your bran
 d’s power and marketing success. Social media and digital marketing have
  made us a global world which provides massive opportunities for companies
  who know how to use it effectively.\n\n• Power of IG\, FB and Influence
 rs and current marketplace\n• Posting basics - if you’re not consisten
 t\, you’re invisible\n• Creative strategies that work\n• Measure you
 r success - how to make social media quantifiable" font_container="tag:p|f
 ont_size:24|text_align:left" use_theme_fonts="yes"][/vc_column][/vc_row][v
 c_row disable_element="yes"][vc_column width="1/2"][vc_text_separator titl
 e="Key Topic Areas" border_width="2"][/vc_column][vc_column width="1/2"][v
 c_text_separator title="Sponsored by" border_width="2"][/vc_column][/vc_ro
 w]
ATTACH;FMTTYPE=image/jpeg:https://www.newportbeach.com/wp-content/uploads/
 2024/06/Luncheon-July-17-2024-networking-Il-Farro-300.jpg
CATEGORIES:Chamber Events,Featured
LOCATION:il Farro Caffe Trattoria\, 111 21st Place \, Newport Beach\, CA\, 
 92663\, United States
GEO:33.6088702;-117.9287458
X-APPLE-STRUCTURED-LOCATION;VALUE=URI;X-ADDRESS=111 21st Place \, Newport B
 each\, CA\, 92663\, United States;X-APPLE-RADIUS=100;X-TITLE=il Farro Caff
 e Trattoria:geo:33.6088702,-117.9287458
END:VEVENT
BEGIN:VTIMEZONE
TZID:America/Los_Angeles
X-LIC-LOCATION:America/Los_Angeles
BEGIN:DAYLIGHT
DTSTART:20240310T030000
TZOFFSETFROM:-0800
TZOFFSETTO:-0700
TZNAME:PDT
END:DAYLIGHT
END:VTIMEZONE
END:VCALENDAR