BEGIN:VCALENDAR
VERSION:2.0
PRODID:-//wp-events-plugin.com//7.0.5//EN
TZID:America/Los_Angeles
X-WR-TIMEZONE:America/Los_Angeles
BEGIN:VEVENT
UID:1945@newportbeach.com
DTSTART;TZID=America/Los_Angeles:20230720T080000
DTEND;TZID=America/Los_Angeles:20230720T090000
DTSTAMP:20230710T191341Z
URL:https://www.newportbeach.com/events/july-2023-government-affairs-commi
 ttee-bob-stein-newport-beach-public-works-department/
SUMMARY:July 2023 Government Affairs Committee - Bob Stein - Newport Beach 
 Public Works Department
DESCRIPTION:[vc_row][vc_column][vc_column_text]\n\nJoin us for our Newport 
 Beach Chamber of Commerce Government Affairs Committee. The meeting will h
 ighlight local political and legislative issues impacting business and the
  community as a whole. With featured guest speakers and an interactive for
 mat allowing for Q and A\, this is a great place to stay in the know on lo
 cal governmental happenings.[/vc_column_text][vc_column_text]\nTHURSDAY\, 
 July 20\, 2023\n8:00 am\nHELD at INDUSTRIOUS\n100 Bayview Circle in Newpor
 t Beach - Parking Validated\n[/vc_column_text][/vc_column][vc_column][vc_s
 eparator][vc_column_text]\nThe July 2023 meeting will feature...\nBOB STEI
 N\nAssistant City Engineer\nCity of Newport Beach Public Works Department\
 n[/vc_column_text][vc_column_text]\nCity of Newport Beach Water Quality Ef
 forts\nand\nThe recently approved Water Wheel Project\n[/vc_column_text][/
 vc_column][/vc_row][vc_row][vc_column][vc_single_image image="619030" img_
 size="200X325" alignment="center"][vc_row_inner][vc_column_inner][vc_colum
 n_text]Bob Stein is the Assistant City Engineer in the City of Newport Bea
 ch’s Public Works Department. He has been a practicing civil design engi
 neer in Southern California for 39 years with over a dozen years in the pr
 ivate sector.\n\nHis past City projects include:\n\n 	the 2000-2002 Balboa
  Village Street Revitalization Project\,\n 	the 2012 Buck Gully Canyon Sta
 bilization Project\,\n 	the 2017 and 2020 Big Canyon Nature Park Restorati
 on Proejcts\,\n 	the 2018 Semeniuk Slough Dredging Project\, and\n 	the 20
 20 Santa Ana-Delhi Channel Regional Trash Facility.\n\nBob has a PhD in Ci
 vil Engineering from UCI and is a resident of Laguna Beach.[/vc_column_tex
 t][/vc_column_inner][/vc_row_inner][/vc_column][/vc_row][vc_row][vc_column
 ][vc_text_separator title="Event Host"][vc_single_image image="618061" img
 _size="300x100" alignment="center"][vc_text_separator title="Refreshments"
 ][vc_row_inner][vc_column_inner][vc_column_text]\nCoffee\, Juice and Donut
 s will be served.\n[/vc_column_text][/vc_column_inner][/vc_row_inner][/vc_
 column][/vc_row][vc_row][vc_column][gravityform id="202" title="false" des
 cription="false" ajax="false"][/vc_column][/vc_row][vc_row disable_element
 ="yes"][vc_column][vc_column_text]\nThis meeting will be held via ZOOM vid
 eo conferencing.\nYOU MUST RSVP FOR THIS MEETING USING THE BUTTON BELOW.\n
 A link will be sent out upon registration as well as reminders previous to
  the meeting.\n[/vc_column_text][vc_btn title="REGISTER HERE" color="viole
 t" size="lg" align="center" link="url:https%3A%2F%2Fus02web.zoom.us%2Fwebi
 nar%2Fregister%2FWN_Mq2Xl2HJSieMMPbAUap5gg|target:_blank"][/vc_column][/vc
 _row]
ATTACH;FMTTYPE=image/jpeg:https://www.newportbeach.com/wp-content/uploads/
 2023/07/July-2023-govt-affairs-Stein-300.jpg
CATEGORIES:Chamber Events,Featured
LOCATION:Industrious\, 100 Bayview Circle\, Newport Beach\, CA\, 92660\, Un
 ited States
X-APPLE-STRUCTURED-LOCATION;VALUE=URI;X-ADDRESS=100 Bayview Circle\, Newpor
 t Beach\, CA\, 92660\, United States;X-APPLE-RADIUS=100;X-TITLE=Industriou
 s:geo:0,0
END:VEVENT
BEGIN:VTIMEZONE
TZID:America/Los_Angeles
X-LIC-LOCATION:America/Los_Angeles
BEGIN:DAYLIGHT
DTSTART:20230312T030000
TZOFFSETFROM:-0800
TZOFFSETTO:-0700
TZNAME:PDT
END:DAYLIGHT
END:VTIMEZONE
END:VCALENDAR