BEGIN:VCALENDAR
VERSION:2.0
PRODID:-//wp-events-plugin.com//7.0.5//EN
TZID:America/Los_Angeles
X-WR-TIMEZONE:America/Los_Angeles
BEGIN:VEVENT
UID:338@newportbeach.com
DTSTART;TZID=America/Los_Angeles:20160128T173000
DTEND;TZID=America/Los_Angeles:20160128T193000
DTSTAMP:20151217T221908Z
URL:https://www.newportbeach.com/events/january-sunset-networking-mixer-st
 ag-bar-restaurant/
SUMMARY:January Sunset Networking Mixer - Stag Bar + Restaurant
DESCRIPTION:&nbsp\;\n\n\nCome discover new business relationships while en
 joying a spectacular atmosphere.\n\nNo reservations required. Free for mem
 bers\, $35 for non-members at the door\n\nNo-Host bar available\,  Raffle
  Prizes &amp\; Complimentary hor's doeuvres\n\nFree street parking availab
 le.\n\nContact: Pam Smith - (949) 729-4411\nEmail: psmith@newportbeach.c
 om\n\n\n\nWelcome to the original Stag Bar + Kitchen\, one of the oldest
  continuously operating bars in Southern California. For over a century
 \, we’ve been pouring beer and serving straightforward libations to ge
 nerations of regulars and return vacationers.\nWhether enjoying a drink 
 at the 100 foot-long\, copper-top bar\, or relaxing with friends at one
  of the comfy upholstered banquets\, each area provides an intimate sett
 ing with the type of authentic historic ambiance that simply cannot be r
 eplicated. Grab a beer and a pizza and catch your favorite sports on ou
 r numerous large screens throughout the bar and dining area. Or enjoy a 
 game of pool or darts\, just as regulars have done for over a hundred ye
 ars.\n\n&nbsp\;
ATTACH;FMTTYPE=image/jpeg:https://www.newportbeach.com/wp-content/uploads/
 2015/12/stagbar.jpg
CATEGORIES:Chamber Events,Featured
LOCATION:Stag Bar + Kitchen\, 121 McFadden Place\, Newport Beach\, CA\, 926
 63\, United States
GEO:33.615828;-117.9307584
X-APPLE-STRUCTURED-LOCATION;VALUE=URI;X-ADDRESS=121 McFadden Place\, Newpor
 t Beach\, CA\, 92663\, United States;X-APPLE-RADIUS=100;X-TITLE=Stag Bar +
  Kitchen:geo:33.615828,-117.9307584
END:VEVENT
BEGIN:VTIMEZONE
TZID:America/Los_Angeles
X-LIC-LOCATION:America/Los_Angeles
BEGIN:STANDARD
DTSTART:20151101T010000
TZOFFSETFROM:-0700
TZOFFSETTO:-0800
TZNAME:PST
END:STANDARD
END:VTIMEZONE
END:VCALENDAR