BEGIN:VCALENDAR
VERSION:2.0
PRODID:-//wp-events-plugin.com//7.0.5//EN
TZID:America/Los_Angeles
X-WR-TIMEZONE:America/Los_Angeles
BEGIN:VEVENT
UID:2054@newportbeach.com
DTSTART;TZID=America/Los_Angeles:20240110T173000
DTEND;TZID=America/Los_Angeles:20240110T200000
DTSTAMP:20231222T215327Z
URL:https://www.newportbeach.com/events/january-navigate-mixer-at-rogue-co
 llective/
SUMMARY:January NAVIGATE: Mixer at Rogue Collective
DESCRIPTION:[vc_row full_width="stretch_row"][vc_column][vc_single_image im
 age="621956" img_size="full" alignment="center"][/vc_column][/vc_row][vc_r
 ow disable_element="yes"][vc_column][vc_column_text css=".vc_custom_150758
 7280077{border-top-width: 1px !important\;border-top-style: dotted !import
 ant\;border-radius: 1px !important\;}"]TRICKS OF MIX\n\nThe fine art of mi
 xology\n\n 	Looking to master the perfect cocktail?\n 	Come learn from a p
 rofessional mixologist on what goes into the perfect pour.\n 	Compete to c
 reate the most flavorful libation.\n\n[/vc_column_text][vc_separator][vc_c
 olumn_text]\nSPONSORS\n[/vc_column_text][/vc_column][/vc_row][vc_row][vc_c
 olumn][gravityform id="232" title="false" description="false" ajax="false"
 ][/vc_column][/vc_row][vc_row][vc_column width="1/2"][vc_column_text]\nTha
 nk you to our food sponsor\n[/vc_column_text][vc_single_image image="62195
 8" img_size="medium" onclick="custom_link" link="https://www.newportcharcu
 terie.com/"][vc_column_text]\n\nArtist curated charcuterie boards\, picnic
  boxes\, grazing tables\, and so much more!\n\n\nWe pride ourselves on our
  quality\, so we only use the highest quality ingredients possible. Our pr
 oducts are gourmet\, seasonal and 100% guaranteed fresh! Plus\, we NEVER s
 kimp on the good stuff.\n\n\nNewport Beach's premier service for all thing
 s cheese! Alyssa Paine built Newport Charcuterie around her love and passi
 on for art\, design\, but most importantly\, food. "Charcuterie boards ha
 ve always been my go-to when it came to gatherings and special occasions. 
 I am very snack focused\, so this to me\, is truly the perfect combination
 . I have always loved hosting parties\, and getting all of my people toget
 her\, and what better way to connect than through food\, wine\, and laught
 er."[/vc_column_text][/vc_column][vc_column width="1/2"][vc_column_text]\n
 Thank you to our venue host\n[/vc_column_text][vc_single_image image="6193
 81" img_size="medium" onclick="custom_link" link="https://www.roguecreativ
 es.com/"][vc_column_text]Matt Barnes is the Owner and Strategic Director 
 of Rogue Creatives (as well as the Owner of Rogue Collective\, Rogue Aviat
 ion\, and as of a few weeks ago\, his own custom lightsaber which might be
  the most impressive thing on that list). Matt went to school for far too 
 long and has advanced degrees in Education and Organizational Leadership. 
 Rogue Creatives is Matt’s creative agency where he uses those degrees to
  help organizations define their personality\, voice\, and values and make
  sure that their branding represents them incredibly well using his own St
 rategic StoryTelling Framework. Matt lives in Costa Mesa with his wife and
  five kids.[/vc_column_text][/vc_column][/vc_row][vc_row disable_element="
 yes"][vc_column][vc_column_text]\nThank You to Our Sponsor\n[/vc_column_te
 xt][vc_single_image image="547998" img_size="medium" alignment="center"][/
 vc_column][/vc_row][vc_row disable_element="yes"][vc_column][vc_media_grid
  element_width="3" grid_id="vc_gid:1703282214552-17e7eeb3-7b5c-0" include=
 "402125\,402126\,402127\,402128\,402130\,402131\,402134"][/vc_column][/vc_
 row]
ATTACH;FMTTYPE=image/jpeg:https://www.newportbeach.com/wp-content/uploads/
 2023/12/January-2024-Rogue-300x300-1.jpg
CATEGORIES:Chamber Events,Featured
LOCATION:Rogue Collective\, 858 Production Pl\, Newport Beach\, CA\, 92663\
 , United States
X-APPLE-STRUCTURED-LOCATION;VALUE=URI;X-ADDRESS=858 Production Pl\, Newport
  Beach\, CA\, 92663\, United States;X-APPLE-RADIUS=100;X-TITLE=Rogue Colle
 ctive:geo:0,0
END:VEVENT
BEGIN:VTIMEZONE
TZID:America/Los_Angeles
X-LIC-LOCATION:America/Los_Angeles
BEGIN:STANDARD
DTSTART:20231105T010000
TZOFFSETFROM:-0700
TZOFFSETTO:-0800
TZNAME:PST
END:STANDARD
END:VTIMEZONE
END:VCALENDAR