BEGIN:VCALENDAR
VERSION:2.0
PRODID:-//wp-events-plugin.com//7.0.5//EN
TZID:America/Los_Angeles
X-WR-TIMEZONE:America/Los_Angeles
BEGIN:VEVENT
UID:2619@newportbeach.com
DTSTART;TZID=America/Los_Angeles:20260516T093000
DTEND;TZID=America/Los_Angeles:20260516T133000
DTSTAMP:20260420T221854Z
URL:https://www.newportbeach.com/events/international-day-of-light-2026/
SUMMARY:International Day of Light 2026
DESCRIPTION:[vc_row][vc_column][vc_single_image image="633819" img_size="fu
 ll" alignment="center"][vc_btn title="RSVP HERE" color="danger" align="cen
 ter" link="url:https%3A%2F%2Fwww.eventbrite.com%2Fe%2Fintl-day-of-light-20
 26-light-for-a-sustainable-future-in-human-health-tickets-1986148950978%3F
 aff%3Doddtdtcreator"][/vc_column][/vc_row]
ATTACH;FMTTYPE=image/jpeg:https://www.newportbeach.com/wp-content/uploads/
 2026/04/Red-ligjt.png
CATEGORIES:Local Events
LOCATION:UltraRed Light Therapy\, 20250 Southwest Acacia Street #Suite 230 
 \, Newport Beach \, CA \, 92660\, United States
X-APPLE-STRUCTURED-LOCATION;VALUE=URI;X-ADDRESS=20250 Southwest Acacia Stre
 et #Suite 230 \, Newport Beach \, CA \, 92660\, United States;X-APPLE-RADI
 US=100;X-TITLE=UltraRed Light Therapy:geo:0,0
END:VEVENT
BEGIN:VTIMEZONE
TZID:America/Los_Angeles
X-LIC-LOCATION:America/Los_Angeles
BEGIN:DAYLIGHT
DTSTART:20260308T030000
TZOFFSETFROM:-0800
TZOFFSETTO:-0700
TZNAME:PDT
END:DAYLIGHT
END:VTIMEZONE
END:VCALENDAR