BEGIN:VCALENDAR
VERSION:2.0
PRODID:-//wp-events-plugin.com//7.0.5//EN
TZID:America/Los_Angeles
X-WR-TIMEZONE:America/Los_Angeles
BEGIN:VEVENT
UID:1061@newportbeach.com
DTSTART;TZID=America/Los_Angeles:20180710T173000
DTEND;TZID=America/Los_Angeles:20180710T190000
DTSTAMP:20180629T200159Z
URL:https://www.newportbeach.com/events/inspire-women-in-business-meet-and
 -mingle/
SUMMARY:InSpire: Women in Business: Meet and Mingle
DESCRIPTION:[vc_row][vc_column][vc_column_text][/vc_column_text][/vc_column
 ][/vc_row]
ATTACH;FMTTYPE=image/jpeg:https://www.newportbeach.com/wp-content/uploads/
 2018/06/Inspire300x300.jpg
CATEGORIES:Chamber Events,Featured
LOCATION:The Bungalow Restaurant\, 2441 East Coast Highway\, Corona Del Mar
  \, CA\, United States
GEO:33.6037848;-117.87401920000002
X-APPLE-STRUCTURED-LOCATION;VALUE=URI;X-ADDRESS=2441 East Coast Highway\, C
 orona Del Mar \, CA\, United States;X-APPLE-RADIUS=100;X-TITLE=The Bungalo
 w Restaurant:geo:33.6037848,-117.87401920000002
END:VEVENT
BEGIN:VTIMEZONE
TZID:America/Los_Angeles
X-LIC-LOCATION:America/Los_Angeles
BEGIN:DAYLIGHT
DTSTART:20180311T030000
TZOFFSETFROM:-0800
TZOFFSETTO:-0700
TZNAME:PDT
END:DAYLIGHT
END:VTIMEZONE
END:VCALENDAR