BEGIN:VCALENDAR
VERSION:2.0
PRODID:-//wp-events-plugin.com//7.0.5//EN
TZID:America/Los_Angeles
X-WR-TIMEZONE:America/Los_Angeles
BEGIN:VEVENT
UID:2304@newportbeach.com
DTSTART;TZID=America/Los_Angeles:20250422T163000
DTEND;TZID=America/Los_Angeles:20250422T173000
DTSTAMP:20250321T163253Z
URL:https://www.newportbeach.com/events/industrial-real-estate-seminar/
SUMMARY:Industrial Real Estate Seminar
DESCRIPTION:[vc_row][vc_column][vc_single_image image="627774" img_size="Fu
 ll"][vc_column_text]Free Event! RSVP only.\n\nRSVP to Jpaton@klw-law.com[/
 vc_column_text][/vc_column][/vc_row]
ATTACH;FMTTYPE=image/jpeg:https://www.newportbeach.com/wp-content/uploads/
 2025/02/Industrial-Real-Estate-Seminar-Flyer-1.png
CATEGORIES:Local Events
LOCATION:Kimura London & White\, 17631 Fitch\, Irvine\, CA\, 92614\, United
  States
X-APPLE-STRUCTURED-LOCATION;VALUE=URI;X-ADDRESS=17631 Fitch\, Irvine\, CA\,
  92614\, United States;X-APPLE-RADIUS=100;X-TITLE=Kimura London & White:ge
 o:0,0
END:VEVENT
BEGIN:VTIMEZONE
TZID:America/Los_Angeles
X-LIC-LOCATION:America/Los_Angeles
BEGIN:DAYLIGHT
DTSTART:20250309T030000
TZOFFSETFROM:-0800
TZOFFSETTO:-0700
TZNAME:PDT
END:DAYLIGHT
END:VTIMEZONE
END:VCALENDAR