BEGIN:VCALENDAR
VERSION:2.0
PRODID:-//wp-events-plugin.com//7.0.5//EN
TZID:America/Los_Angeles
X-WR-TIMEZONE:America/Los_Angeles
BEGIN:VEVENT
UID:89@newportbeach.com
DTSTART;TZID=America/Los_Angeles:20140530T180000
DTEND;TZID=America/Los_Angeles:20140601T180000
DTSTAMP:20140523T181115Z
URL:https://www.newportbeach.com/events/hyatt-regency-newport-beach-jazz-f
 estival/
SUMMARY:Hyatt Regency Newport Beach Jazz Festival
DESCRIPTION:Get ready for 3 days of jazz\, soul\, and R&amp\;B music at Th
 e Hyatt Regency Newport Beach Jazz Festival\, May 30th through June 1st!\n
 \nThe festival kicks off Friday with Mindi Abair &amp\; Friends\, a releas
 e party for her new album Wild Heart\, and the fun continues on Saturday a
 nd Sunday with 10-time Grammy Award winner Chaka Khan\, R&amp\;B vocalist 
 Brian McKnight\, Dave Koz &amp\; Friends Summer Horns\, Jazz Attack featu
 ring Rick Braun\, Peter White &amp\; Euge Groove\, and many more!\n\nGrab 
 your friends and family for a weekend of music and fun at the newly renova
 ted Hyatt Regency Newport Beach. Soak up the sun\, indulge in great food a
 nd drinks\, and let the music move your feet. The getaway you’ve been dr
 eaming of is just a click away.\n\nVisit www.hyattconcerts.com for more de
 tails!
CATEGORIES:Featured,Local Events
LOCATION:The Hyatt Regency Newport Beach\, 1107 Jamboree Road \, Newport Be
 ach\, CA\, 92660\, United States
GEO:33.6174746;-117.88857559999997
X-APPLE-STRUCTURED-LOCATION;VALUE=URI;X-ADDRESS=1107 Jamboree Road \, Newpo
 rt Beach\, CA\, 92660\, United States;X-APPLE-RADIUS=100;X-TITLE=The Hyatt
  Regency Newport Beach:geo:33.6174746,-117.88857559999997
END:VEVENT
BEGIN:VTIMEZONE
TZID:America/Los_Angeles
X-LIC-LOCATION:America/Los_Angeles
BEGIN:DAYLIGHT
DTSTART:20140309T030000
TZOFFSETFROM:-0800
TZOFFSETTO:-0700
TZNAME:PDT
END:DAYLIGHT
END:VTIMEZONE
END:VCALENDAR