BEGIN:VCALENDAR
VERSION:2.0
PRODID:-//wp-events-plugin.com//7.0.5//EN
TZID:America/Los_Angeles
X-WR-TIMEZONE:America/Los_Angeles
BEGIN:VEVENT
UID:1563@newportbeach.com
DTSTART;TZID=America/Los_Angeles:20201012T140000
DTEND;TZID=America/Los_Angeles:20201012T153000
DTSTAMP:20200921T212211Z
URL:https://www.newportbeach.com/events/hoag-personalized-cancer-therapy-v
 irtual-event/
SUMMARY:Hoag Personalized Cancer Therapy Virtual Event
DESCRIPTION:\n\n&nbsp\;\n\nThe science of cancer care continues to evolve a
 nd become more precise and more personalized to address each individuals u
 nique cancer diagnosis. Hoag is on the forefront of this care\, being the 
 first to bring some of the most advanced diagnostic and treatment therapie
 s to Orange County\, and even to the United States. Join their nationally-
 recognized physician panel as they discuss how Hoag is applying these targ
 eted therapies in their patient-driven approach to cancer care\, helping t
 hem conquer cancer one specific patient at a time. To register for this ev
 ent\, visit\n\n[button href="https://www.hoag.org/community-education-clas
 ses/event-details/?Event=940&amp\;utm_medium=furl&amp\;utm_campaign=cancer
 panel&amp\;utm_source=furl&amp\;utm_content=furl-cancerpanel&amp\;furl=can
 cerpanel" size="medium" textcolor="white"]Register Now[/button]\n\n&nbsp\;
 \n\n&nbsp\;\n\n&nbsp\;
ATTACH;FMTTYPE=image/jpeg:https://www.newportbeach.com/wp-content/uploads/
 2020/09/Hoag-Logo-Solid-RGB.jpg
CATEGORIES:Local Events
END:VEVENT
BEGIN:VTIMEZONE
TZID:America/Los_Angeles
X-LIC-LOCATION:America/Los_Angeles
BEGIN:DAYLIGHT
DTSTART:20200308T030000
TZOFFSETFROM:-0800
TZOFFSETTO:-0700
TZNAME:PDT
END:DAYLIGHT
END:VTIMEZONE
END:VCALENDAR