BEGIN:VCALENDAR
VERSION:2.0
PRODID:-//wp-events-plugin.com//7.0.5//EN
TZID:America/Los_Angeles
X-WR-TIMEZONE:America/Los_Angeles
BEGIN:VEVENT
UID:103@newportbeach.com
DTSTART;TZID=America/Los_Angeles:20140716T113000
DTEND;TZID=America/Los_Angeles:20140716T133000
DTSTAMP:20140716T231432Z
URL:https://www.newportbeach.com/events/free-resources-business-business-n
 etworking-luncheon-speaker-series/
SUMMARY:Free Resources for Your Business - Business Networking Luncheon & S
 peaker Series
DESCRIPTION:The Newport Beach Chamber of Commerce and SCORE invite you to 
 our\nNetworking Luncheon Speaker Series\n\n\n\nFree Resources for Your Bu
 siness\nEffective Networking\nFeaturing David Harris\nSmall Business Mento
 r and Business Development\, SCORE\n\nLearn to maximize your time and how 
 to reach your personal and professional goals. Also learn the right way to
  identify events that would be more productive for your success\, and you 
 will learn professional etiquette and protocol (do's and don'ts) and learn
  when and how to interact and create a basis for future follow up.\n\nPlus
  an August Workshop Preview:\nMarrying Your Smart Phone to Your Business\n
 Featuring K.J.\nSmart Phone Technology Specialist\n\nStudies show that Sma
 rtphone's can help save time daily. Our Smart Phone training program is so
  successful because within our training\, we not only implement powerful s
 ales and networking strategy\, we also turn your smart phone into a busine
 ss in a box taking your business to the next level. Our team of profession
 als will show you how to build a powerful sales and business relationship 
 TOOL BOX and it starts with your smart phone!\nIncludes Lunch and FREE Par
 king\n[button href="https://newportbeach.com/?p=6605" size="medium" textco
 lor="#ffffff"]Event Flier (PDF)[/button]
ATTACH;FMTTYPE=image/jpeg:https://www.newportbeach.com/wp-content/uploads/
 2014/07/networkingHand.jpg
CATEGORIES:Chamber Events
LOCATION:Bahia Corinthian Yacht Club\, 1601 Bayside Drive\, Corona Del Mar\
 , CA\, United States
GEO:33.606987;-117.885178
X-APPLE-STRUCTURED-LOCATION;VALUE=URI;X-ADDRESS=1601 Bayside Drive\, Corona
  Del Mar\, CA\, United States;X-APPLE-RADIUS=100;X-TITLE=Bahia Corinthian 
 Yacht Club:geo:33.606987,-117.885178
END:VEVENT
BEGIN:VTIMEZONE
TZID:America/Los_Angeles
X-LIC-LOCATION:America/Los_Angeles
BEGIN:DAYLIGHT
DTSTART:20140309T030000
TZOFFSETFROM:-0800
TZOFFSETTO:-0700
TZNAME:PDT
END:DAYLIGHT
END:VTIMEZONE
END:VCALENDAR