BEGIN:VCALENDAR
VERSION:2.0
PRODID:-//wp-events-plugin.com//7.0.5//EN
TZID:America/Los_Angeles
X-WR-TIMEZONE:America/Los_Angeles
BEGIN:VEVENT
UID:1684@newportbeach.com
DTSTART;TZID=America/Los_Angeles:20220224T173000
DTEND;TZID=America/Los_Angeles:20220224T193000
DTSTAMP:20220217T172635Z
URL:https://www.newportbeach.com/events/february-2022-sunset-networking-mi
 xer-muldoons-an-irish-pub/
SUMMARY:February 2022 Sunset Networking Mixer - Muldoon's...An Irish Pub
DESCRIPTION:[vc_row][vc_column][vc_custom_heading text="We're Back In-Perso
 n!" font_container="tag:p|font_size:36|text_align:center|color:%231e73be" 
 use_theme_fonts="yes"][vc_single_image image="587870" img_size="full" alig
 nment="center" onclick="img_link_large" css_animation="fadeIn"][/vc_column
 ][/vc_row][vc_row disable_element="yes"][vc_column][vc_column_text]\nEvent
  Sponsored by\n[/vc_column_text][/vc_column][/vc_row][vc_row disable_eleme
 nt="yes"][vc_column][vc_media_grid item="mediaGrid_ScaleInWithIcon" initia
 l_loading_animation="flipInY" grid_id="vc_gid:1644442525677-5284ef44-0f4f-
 10" include="188576\,180582\,180581\,180580\,180579"][/vc_column][/vc_row]
 [vc_row][vc_column][vc_column_text]Contact: Annette Malinowski - (949) 729
 -4410\nEmail: annette@newportbeach.com\n\n&nbsp\;\nClassic Irish Cuisine M
 eets Modern Pub Faire.\nMuldoon’s ivy-covered double-brick building wins
  architectural awards because of our four unique spaces\, including two di
 stinct pubs\, a beautiful patio and a charming dining room\, all under one
  roof!\nThe Dublin Pub is our 1st bar\, built in 1974 entirely of oak\, br
 ick and brass\, with our bulldog mascot stunningly rendered in stained gla
 ss. This is the spot for a game of darts! Lots of TVs to catch your favori
 te game!\nThe Celtic Bar\, added in 2000\, is just across our patio and gi
 ves you the chance to go bar-hopping without leaving Muldoon’s! The perf
 ect blend of rustic\, industrial beauty! It’s truly ideal for booking yo
 ur private parties! Lots of TVs in here for sports\, too!\nOur Tavern Dini
 ng Room\, also built in 1974 from finely-crafted oak\, is beloved for it
 ’s real crackling fireplace\, tall oak booths and hand-painted Irish pro
 verbs along the coffered oak ceilings. It transports you across the pond\,
  no passport required!\nThese three indoor spaces form a circle around our
  open-air Patio\, with a graceful Sycamore tree in the middle that gives s
 hade and dappled sunlight\, making it ideal for al fresco lunch\, dinner\,
  Sunday breakfast\, watching sports and listening to live music!\nCèad M
 ìle Fàilte ~ A Hundred Thousand Welcomes\n[/vc_column_text][/vc_column][
 /vc_row]
ATTACH;FMTTYPE=image/jpeg:https://www.newportbeach.com/wp-content/uploads/
 2014/12/Muldoons2.jpg
CATEGORIES:Chamber Events,Featured
LOCATION:Muldoon's Irish Pub\, 202 Newport Center Drive\, Newport Beach\, C
 A\, 92660\, United States
GEO:33.61236;-117.87471900000003
X-APPLE-STRUCTURED-LOCATION;VALUE=URI;X-ADDRESS=202 Newport Center Drive\, 
 Newport Beach\, CA\, 92660\, United States;X-APPLE-RADIUS=100;X-TITLE=Muld
 oon's Irish Pub:geo:33.61236,-117.87471900000003
END:VEVENT
BEGIN:VTIMEZONE
TZID:America/Los_Angeles
X-LIC-LOCATION:America/Los_Angeles
BEGIN:STANDARD
DTSTART:20211107T010000
TZOFFSETFROM:-0700
TZOFFSETTO:-0800
TZNAME:PST
END:STANDARD
END:VTIMEZONE
END:VCALENDAR