BEGIN:VCALENDAR
VERSION:2.0
PRODID:-//wp-events-plugin.com//7.0.5//EN
TZID:America/Los_Angeles
X-WR-TIMEZONE:America/Los_Angeles
BEGIN:VEVENT
UID:2226@newportbeach.com
DTSTART;TZID=America/Los_Angeles:20241106T170000
DTEND;TZID=America/Los_Angeles:20241106T190000
DTSTAMP:20241017T220007Z
URL:https://www.newportbeach.com/events/executive-success-strategies-with-
 craig-cooke/
SUMMARY:Executive Success Strategies with Craig Cooke
DESCRIPTION:[vc_row][vc_column][vc_single_image image="625758" img_size="Fu
 ll" onclick="custom_link" link="https://lu.ma/y10ihif5"][vc_btn title="Tic
 kets" style="3d" color="sky" link="url:https%3A%2F%2Flu.ma%2Fy10ihif5|targ
 et:_blank"][vc_column_text]Craig Cooke is a successful entrepreneur who ha
 d the foresight to start a “digital first” company utilizing the Inter
 net long before “digital first\,” “digital transformation\,” and o
 ther buzzwords of today were created. With extremely limited resources of 
 $1\,300 and an Apple computer\, he started RhythmNet.com with a couple f
 riends from college. Over the years of struggle\, adaptation\, and reposit
 ioning the brand\, “Rhythm“ was sold to a world-class digital creative
  agency in 2019. Craig stayed with the company for just over 3 years\, com
 pleting a 26-year marathon of running the company as CEO.\n\n​During his
  tenure at Rhythm®\, Craig worked with middle market to large enterprise 
 companies\, such as American Honda Motors\, Beats by Dr. Dre\, ZO Skin Hea
 lth\, Irvine Company\, The Travel Corporation\, Segway\, U.S. Bank\, FiveP
 oint\, Online Trading Academy\, Allergan\, Abbott Labs\, Takeda Pharmaceut
 icals\, and many other B2C and B2B brands. During the course of leading Rh
 ythm® to success\, numerous organizational achievements were attained\, i
 ncluding\, but not limited to\, the following:\n\n 	​Inc. 5000 list of f
 astest-growing companies\, five years in a row (only seven percent of comp
 anies on this list achieve this feat)\n 	​Top 100 Marketing &amp\; Adver
 tising Leaders\, 2021 by Marketing\, Advertising and Retail Summit (MARsum
 )\n 	​Best Places to Work four years in a row\n\n​Today\, Craig shares
  his business wisdom\, experience\, and expertise in three key areas: exec
 utive leadership\, brand development\, and marketing communications. He co
 ntinues his training in martial arts\, continuously learning and evolving 
 his skills. Also\, he has studied and served as a practitioner of Chinese 
 Medical Qigong since 2015\, bringing energy healing to hundreds of people.
  Craig holds a Doctorate in Chinese Energy Medicine from the Temple of Cha
 nge and Transformation.\n\n​Join us for this exciting event on Wednesday
 \, November 6 at 5 pm in Irvine at the stunning OneDigital venue. OneDigi
 tal SoCal has made the Orange County Business Journal’s Best Places to 
 Work list for the 14th year (2012-2024). In addition to having a great cul
 ture\, OneDigital is a national Insurance firm with over a $1 billion in r
 evenue. Their main focus is employee benefits\, but they also have a spect
 rum of additional services like wealth management\, human resources and PE
 O.\n\n​This event will be hosted by Chi Pham\, Founder of Founders Flow\
 , a community to connect and create opportunities for Founders in SoCal. T
 here will be networking opportunities and dinner served. We look forward t
 o seeing you![/vc_column_text][/vc_column][/vc_row]
ATTACH;FMTTYPE=image/jpeg:https://www.newportbeach.com/wp-content/uploads/
 2024/10/Craig.png
CATEGORIES:Local Events
LOCATION:OneDigital\, 7755 Irvine Center Dr 5th floor\, Irvine\, CA\, 92618
 \, United States
X-APPLE-STRUCTURED-LOCATION;VALUE=URI;X-ADDRESS=7755 Irvine Center Dr 5th f
 loor\, Irvine\, CA\, 92618\, United States;X-APPLE-RADIUS=100;X-TITLE=OneD
 igital:geo:0,0
END:VEVENT
BEGIN:VTIMEZONE
TZID:America/Los_Angeles
X-LIC-LOCATION:America/Los_Angeles
BEGIN:STANDARD
DTSTART:20241103T010000
TZOFFSETFROM:-0700
TZOFFSETTO:-0800
TZNAME:PST
END:STANDARD
END:VTIMEZONE
END:VCALENDAR