BEGIN:VCALENDAR
VERSION:2.0
PRODID:-//wp-events-plugin.com//7.0.5//EN
TZID:America/Los_Angeles
X-WR-TIMEZONE:America/Los_Angeles
BEGIN:VEVENT
UID:2339@newportbeach.com
DTSTART;TZID=America/Los_Angeles:20250426T090000
DTEND;TZID=America/Los_Angeles:20250426T110000
DTSTAMP:20250416T183847Z
URL:https://www.newportbeach.com/events/empower-your-mind-life-workshop/
SUMMARY:Empower Your Mind & Life Workshop
DESCRIPTION:[vc_row][vc_column][vc_btn title="Register Here!" style="3d" co
 lor="vista-blue" link="url:https%3A%2F%2Fdebi.debichangeslives.com%2FEmpow
 erYourMind%26Life|target:_blank"][vc_single_image image="628361" img_size=
 "Full" onclick="custom_link" img_link_target="_blank" link="https://debi.d
 ebichangeslives.com/EmpowerYourMind&amp\;Life"][vc_column_text]Transformat
 ive Journey Begins Here\n\nJoin Debi Voris\, Certified Wholistic Health Co
 ach\, in a powerful workshop crafted to tune into your mind's signals and 
 redefine life's challenges. Take control and start living your best life.\
 n\nWorkshop Highlights:\n\n 	Master Stress: Gain tools to manage stress an
 d emotions effectively.\n 	Increase Mind-Body Awareness: Deepen your conne
 ction and understanding of your inner self.\n 	Achieve Emotional Clarity: 
 Navigate emotions with confidence and composure.\n 	Boost Focus &amp\; Ene
 rgy: Enhance your mental agility and vitality.\n 	Confident Living: Approa
 ch uncertainty with assurance and poise.\n\nEvent Details:\n\n Date: Satur
 day\, April 26th\n⏰ Time: 9:00 AM PT\n Investment: $39.95\n\nJoin us for
  this empowering event and discover the keys to balanced and fulfilled liv
 ing. Reserve your spot now and begin your transformative journey today!\n\
 nRegister at: https://bit.ly/EmpowerYourMindAndLife[/vc_column_text][/vc_c
 olumn][/vc_row]
ATTACH;FMTTYPE=image/jpeg:https://www.newportbeach.com/wp-content/uploads/
 2025/04/Empower-Your-MInd-Life-Social-Square.png
CATEGORIES:Local Events
END:VEVENT
BEGIN:VTIMEZONE
TZID:America/Los_Angeles
X-LIC-LOCATION:America/Los_Angeles
BEGIN:DAYLIGHT
DTSTART:20250309T030000
TZOFFSETFROM:-0800
TZOFFSETTO:-0700
TZNAME:PDT
END:DAYLIGHT
END:VTIMEZONE
END:VCALENDAR