BEGIN:VCALENDAR
VERSION:2.0
PRODID:-//wp-events-plugin.com//7.0.5//EN
TZID:America/Los_Angeles
X-WR-TIMEZONE:America/Los_Angeles
BEGIN:VEVENT
UID:2477@newportbeach.com
DTSTART;TZID=America/Los_Angeles:20251101T100000
DTEND;TZID=America/Los_Angeles:20251101T120000
DTSTAMP:20251014T173559Z
URL:https://www.newportbeach.com/events/discovering-agentic-ai-a-hands-on-
 workshop-at-sofia-university/
SUMMARY:Discovering Agentic AI: A Hands-On Workshop at Sofia University
DESCRIPTION:[vc_row][vc_column][vc_btn title="In Person registration" style
 ="3d" color="vista-blue" align="center" link="url:https%3A%2F%2Fforms.offi
 ce.com%2FPages%2FResponsePage.aspx%3Fid%3D2-VDjfhEek6WJF8zEbkaa3Ny-D32QKxM
 mfrN0oFH2txUMExRN0dLMEtPNjlTOVc0RTdDT1VCTjBDTS4u|target:_blank"][vc_btn ti
 tle="Online Registration" style="3d" color="peacoc" align="center" link="u
 rl:https%3A%2F%2Fevents.teams.microsoft.com%2Fevent%2F4f906a2e-b3e1-4a67-b
 b1a-08c84ce2903b%408d43e5db-44f8-4e7a-9624-5f3311b91a6b|target:_blank"][vc
 _column_text]\nDiscovering Agentic AI: A Hands-On Workshop at Sofia Univer
 sity\n\nDate &amp\; Time: November 1\, 10:00 AM – 12:00 PM PDT\nLocation
 : Costa Mesa Campus (in-person) &amp\; Online\nArtificial intelligence is 
 evolving at lightning speed\, transforming the way we work and live. The n
 ext leap—agentic AI—involves autonomous agents and independent workflo
 ws\, AI systems capable of taking action toward defined goals on their own
 .\nJoin Sofia University for a hands-on workshop exploring AI-driven autom
 ation using Zapier’s platform. Learn how to build simple\, powerful work
 flows leveraging ChatGPT to streamline tasks like email summaries and meet
 ing notes. No coding required—just creativity and vision.\nIn this 2-hou
 r seminar\, participants will:\n\n\n 	Learn what autonomous AI agents are\
 n 	Explore practical examples of AI-driven workflows with everyday tools\n
  	Build a simple AI-powered workflow using a no-code platform\n 	Reflect o
 n how agentic AI can enhance personal and professional work\n\nAgenda:\n\n
 \n 	Dr. Steven Gold – Introduction to the seminar\n 	Robert Strohmeyer 
 – Agentic AI overview and interactive workflow session\n 	Dr. Gordon Mon
 tgomery – The future of agentic AI\n\nIn-person attendees will enjoy net
 working opportunities\, direct engagement with faculty\, and lively discus
 sion.\nRegister for your preferred attendance option:\n\n 	Online: Sign Up
  Here\n 	In-person (Costa Mesa campus): Sign Up Here\n\nFor more informati
 on: Contact Dr. Steven Gold at steven.gold@sofia.edu\n\nExplore the future
  of AI and discover the power of agentic automation at Sofia University!\n
 [/vc_column_text][vc_single_image image="631724" img_size="Full"][/vc_colu
 mn][/vc_row]
ATTACH;FMTTYPE=image/jpeg:https://www.newportbeach.com/wp-content/uploads/
 2025/10/AI-Graphic-Sofi-Uni.png
CATEGORIES:Local Events
LOCATION:Sofia University\, 3333 Harbor Blvd\,  Costa Mesa \, CA \, 92626\,
  United States
X-APPLE-STRUCTURED-LOCATION;VALUE=URI;X-ADDRESS=3333 Harbor Blvd\,  Costa M
 esa \, CA \, 92626\, United States;X-APPLE-RADIUS=100;X-TITLE=Sofia Univer
 sity:geo:0,0
END:VEVENT
BEGIN:VTIMEZONE
TZID:America/Los_Angeles
X-LIC-LOCATION:America/Los_Angeles
BEGIN:DAYLIGHT
DTSTART:20250309T030000
TZOFFSETFROM:-0800
TZOFFSETTO:-0700
TZNAME:PDT
END:DAYLIGHT
END:VTIMEZONE
END:VCALENDAR