BEGIN:VCALENDAR
VERSION:2.0
PRODID:-//wp-events-plugin.com//7.0.5//EN
TZID:America/Los_Angeles
X-WR-TIMEZONE:America/Los_Angeles
BEGIN:VEVENT
UID:2369@newportbeach.com
DTSTART;TZID=America/Los_Angeles:20250627T110000
DTEND;TZID=America/Los_Angeles:20250629T180000
DTSTAMP:20250530T200916Z
URL:https://www.newportbeach.com/events/discover-your-journey-drive-event-
 at-the-lincoln-experience-center/
SUMMARY:Discover Your Journey – Drive Event at the Lincoln Experience Cen
 ter
DESCRIPTION:[vc_row][vc_column][vc_single_image image="628919" img_size="Fu
 ll" onclick="custom_link" img_link_target="_blank" link="https://www.linco
 lnexperiencecenter.com/"][vc_column_text]Step into a world where every dri
 ve brings you closer—to peace\, to presence\, to what matters most. Visi
 t the Lincoln Experience Center for an exclusive test drive event and disc
 over how true luxury can nurture your body and soul. Qualified* guests who
  test drive a new Lincoln luxury SUV will receive a $20 gift card to enjoy
  at any Fashion Island retailer.\n\nDuring your visit\, discover the 2025 
 Lincoln Navigator®\, with an all-new design and thoughtful technology tha
 t places your wellbeing at the center of it all. Get inside and enjoy Linc
 oln Rejuvenate† - a choreographed multisensory experience of sight\, sou
 nd\, temperature\, massage and Digital Scent that gives you a moment to re
 lax and recharge.\n\nFriday – Sunday\, June 27 – 29\, 2025\n\n11:00am 
 – 6:00pm\n\n*Gift value $20. No purchase necessary. While supplies last.
  Test drive of a Lincoln vehicle required on June 27-29\, 2025 at the Linc
 oln Experience Center\, Newport Beach\, CA. Limit one gift per driver. Gif
 t for driver only. Valid driver’s license required. Must be 18 years of 
 age or older. Lincoln Experience Center employees and family members not e
 ligible.\n\n†Lincoln Rejuvenate does not operate when vehicle is not in 
 Park\, the vehicle is off\, or any door is open. Do not use the feature in
  a closed garage or in other enclosed areas. See Owner’s Manual for impo
 rtant operating instructions.\n\n© 2025 Ford Motor Company. Lincoln and N
 avigator are trademarks of Ford Motor Company or its affiliates. All right
 s reserved.[/vc_column_text][/vc_column][/vc_row]
ATTACH;FMTTYPE=image/jpeg:https://www.newportbeach.com/wp-content/uploads/
 2025/05/LEC-Discover-Your-Journey_720x480_V1.jpg
CATEGORIES:Local Events
LOCATION:Lincoln Experience Center\, 139 Newport Center Dr\, Newport Beach\
 , California\, United States
GEO:33.6126693;-117.87543579999999
X-APPLE-STRUCTURED-LOCATION;VALUE=URI;X-ADDRESS=139 Newport Center Dr\, New
 port Beach\, California\, United States;X-APPLE-RADIUS=100;X-TITLE=Lincoln
  Experience Center:geo:33.6126693,-117.87543579999999
END:VEVENT
BEGIN:VTIMEZONE
TZID:America/Los_Angeles
X-LIC-LOCATION:America/Los_Angeles
BEGIN:DAYLIGHT
DTSTART:20250309T030000
TZOFFSETFROM:-0800
TZOFFSETTO:-0700
TZNAME:PDT
END:DAYLIGHT
END:VTIMEZONE
END:VCALENDAR