BEGIN:VCALENDAR
VERSION:2.0
PRODID:-//wp-events-plugin.com//7.0.5//EN
TZID:America/Los_Angeles
X-WR-TIMEZONE:America/Los_Angeles
BEGIN:VEVENT
UID:2428@newportbeach.com
DTSTART;TZID=America/Los_Angeles:20250829T130000
DTEND;TZID=America/Los_Angeles:20250829T143000
DTSTAMP:20250825T194440Z
URL:https://www.newportbeach.com/events/diamond-wish-ribbon-cutting/
SUMMARY:Diamond Wish Ribbon Cutting
DESCRIPTION:[vc_row][vc_column][vc_single_image image="630279" img_size="Fu
 ll" onclick="custom_link" img_link_target="_blank" link="https://www.diamo
 ndwish.com/"][/vc_column][/vc_row]
ATTACH;FMTTYPE=image/jpeg:https://www.newportbeach.com/wp-content/uploads/
 2025/08/Ribbon-Cutting-invite-600-x-600.jpg
CATEGORIES:Local Events,Ribbon Cuttings
LOCATION:Diamond Wish\, 844 Avocado Ave \, Newport Beach \, CA \, 92660\, U
 nited States
X-APPLE-STRUCTURED-LOCATION;VALUE=URI;X-ADDRESS=844 Avocado Ave \, Newport 
 Beach \, CA \, 92660\, United States;X-APPLE-RADIUS=100;X-TITLE=Diamond Wi
 sh:geo:0,0
END:VEVENT
BEGIN:VTIMEZONE
TZID:America/Los_Angeles
X-LIC-LOCATION:America/Los_Angeles
BEGIN:DAYLIGHT
DTSTART:20250309T030000
TZOFFSETFROM:-0800
TZOFFSETTO:-0700
TZNAME:PDT
END:DAYLIGHT
END:VTIMEZONE
END:VCALENDAR