BEGIN:VCALENDAR
VERSION:2.0
PRODID:-//wp-events-plugin.com//7.0.5//EN
TZID:America/Los_Angeles
X-WR-TIMEZONE:America/Los_Angeles
BEGIN:VEVENT
UID:2276@newportbeach.com
DTSTART;TZID=America/Los_Angeles:20250213T160000
DTEND;TZID=America/Los_Angeles:20250213T180000
DTSTAMP:20250211T182050Z
URL:https://www.newportbeach.com/events/cte-month-celebration-open-house/
SUMMARY:CTE Month Celebration & Open House
DESCRIPTION:[vc_row][vc_column][vc_single_image image="627316" img_size="Fu
 ll" onclick="custom_link" img_link_target="_blank" link="https://docs.goog
 le.com/forms/d/e/1FAIpQLSdP7tCD1tAP3SM3gG2EJE9mE_vg8ZB2xX5RpNfJlckKg5RyjA/
 viewform"][vc_btn title="RSVP Here" color="peacoc" link="url:https%3A%2F%2
 Fdocs.google.com%2Fforms%2Fd%2Fe%2F1FAIpQLSdP7tCD1tAP3SM3gG2EJE9mE_vg8ZB2x
 X5RpNfJlckKg5RyjA%2Fviewform|target:_blank"][/vc_column][/vc_row]
ATTACH;FMTTYPE=image/jpeg:https://www.newportbeach.com/wp-content/uploads/
 2025/01/CROP-Open-House-2.13.25-1-pdf.jpg
CATEGORIES:Chamber Events
LOCATION:The Presidio Square\, 1001 Presidio Square\,  Costa Mesa\, CA\, 92
 626\, United States
X-APPLE-STRUCTURED-LOCATION;VALUE=URI;X-ADDRESS=1001 Presidio Square\,  Cos
 ta Mesa\, CA\, 92626\, United States;X-APPLE-RADIUS=100;X-TITLE=The Presid
 io Square:geo:0,0
END:VEVENT
BEGIN:VTIMEZONE
TZID:America/Los_Angeles
X-LIC-LOCATION:America/Los_Angeles
BEGIN:STANDARD
DTSTART:20241103T010000
TZOFFSETFROM:-0700
TZOFFSETTO:-0800
TZNAME:PST
END:STANDARD
END:VTIMEZONE
END:VCALENDAR