BEGIN:VCALENDAR
VERSION:2.0
PRODID:-//wp-events-plugin.com//7.0.5//EN
TZID:America/Los_Angeles
X-WR-TIMEZONE:America/Los_Angeles
BEGIN:VEVENT
UID:2380@newportbeach.com
DTSTART;TZID=America/Los_Angeles:20250921T160000
DTEND;TZID=America/Los_Angeles:20250921T190000
DTSTAMP:20250701T180318Z
URL:https://www.newportbeach.com/events/champions-dinner-with-arthritis-fo
 undation/
SUMMARY:Champions Dinner with Arthritis Foundation
DESCRIPTION:[vc_row][vc_column][vc_btn title="More Info/Tickets" style="out
 line" color="vista-blue" link="url:https%3A%2F%2Fmy.onecause.com%2Fevent%2
 Forganizations%2F2741318c-1a81-4ce1-a8fd-7185f7065740%2Fevents%2Fvevt%3Aa2
 26beab-53a2-4f15-96aa-e891240d8f11%2Fhome%2Fstory%3Frp%3D%252Fchampionsdin
 ner|target:_blank"][vc_single_image image="629142" img_size="Full" onclick
 ="custom_link" img_link_target="_blank" link="https://my.onecause.com/even
 t/organizations/2741318c-1a81-4ce1-a8fd-7185f7065740/events/vevt:a226beab-
 53a2-4f15-96aa-e891240d8f11/home/story?rp=%2Fchampionsdinner"][/vc_column]
 [/vc_row]
ATTACH;FMTTYPE=image/jpeg:https://www.newportbeach.com/wp-content/uploads/
 2025/07/AF-_-Grand-Champions-Dinner-_Flyer.jpg
CATEGORIES:Local Events
LOCATION:The University Club\, 801 E. Peltason Drive\, Irvine\, CA\, 92617\
 , United States
X-APPLE-STRUCTURED-LOCATION;VALUE=URI;X-ADDRESS=801 E. Peltason Drive\, Irv
 ine\, CA\, 92617\, United States;X-APPLE-RADIUS=100;X-TITLE=The University
  Club:geo:0,0
END:VEVENT
BEGIN:VTIMEZONE
TZID:America/Los_Angeles
X-LIC-LOCATION:America/Los_Angeles
BEGIN:DAYLIGHT
DTSTART:20250309T030000
TZOFFSETFROM:-0800
TZOFFSETTO:-0700
TZNAME:PDT
END:DAYLIGHT
END:VTIMEZONE
END:VCALENDAR