BEGIN:VCALENDAR
VERSION:2.0
PRODID:-//wp-events-plugin.com//7.0.5//EN
TZID:America/Los_Angeles
X-WR-TIMEZONE:America/Los_Angeles
BEGIN:VEVENT
UID:1891@newportbeach.com
DTSTART;TZID=America/Los_Angeles:20230421T100000
DTEND;TZID=America/Los_Angeles:20230423T180000
DTSTAMP:20230410T192512Z
URL:https://www.newportbeach.com/events/carvana-ppa-tour-hosts-the-ogio-ne
 wport-beach-shootout-presented-by-vizzy-in-newport-beach-ca/
SUMMARY:Carvana PPA Tour hosts the OGIO Newport Beach Shootout presented by
  Vizzy in Newport Beach\, CA!
DESCRIPTION:[vc_row][vc_column][vc_column_text]\nThe Carvana PPA Tour will 
 host the OGIO Newport Beach Shootout presented by Vizzy in Newport Beach\,
  CA from Friday to Sunday (April 21-23).\nThis event is a professional and
  amateur doubles pickleball tournament that will feature hundreds of regis
 tered athletes\, spectators and fans.\n[/vc_column_text][/vc_column][/vc_r
 ow][vc_row][vc_column][vc_single_image image="617756" img_size="full" alig
 nment="center"][/vc_column][/vc_row][vc_row][vc_column][vc_column_text]\nT
 he Red Rock Open is a professional and amateur pickleball tournament that 
 will feature hundreds of registered athletes across multiple divisions Men
 ’s Doubles\, Women’s Doubles\, and Mixed Doubles and age brackets (cat
 egories: 19+\, 35+\, 50+\, 60+\, 70+)\nTen of the world’s top PPA Tour p
 layers call Utah home\, including Alex Neumann\, Callan Dawson\, Connor Ga
 rnett\, Hayden Patriquin\, Irina Tereschenko\, Jessie Irvine\, Lacy Schnee
 man\, Mary Brascia\, and Michelle Esquivel.\nTickets start at $25...Click 
 link below to purchase!\n[/vc_column_text][/vc_column][/vc_row][vc_row][vc
 _column][vc_btn title="Buy Tickets Here!" color="primary" align="center" l
 ink="url:https%3A%2F%2Fwww.tixr.com%2Fgroups%2Fppa%2Fevents%2Fppa-newport-
 beach-shootout-58666|target:_blank"][/vc_column][/vc_row]
ATTACH;FMTTYPE=image/jpeg:https://www.newportbeach.com/wp-content/uploads/
 2023/04/ppa-tour-updated-logo-2023.png
CATEGORIES:Local Events
LOCATION:The Tennis and Pickleball Club at Newport Beach\, 11 Clubhouse Dr.
 \, Newport Beach\, CA\, 92660\, United States
X-APPLE-STRUCTURED-LOCATION;VALUE=URI;X-ADDRESS=11 Clubhouse Dr.\, Newport 
 Beach\, CA\, 92660\, United States;X-APPLE-RADIUS=100;X-TITLE=The Tennis a
 nd Pickleball Club at Newport Beach:geo:0,0
END:VEVENT
BEGIN:VTIMEZONE
TZID:America/Los_Angeles
X-LIC-LOCATION:America/Los_Angeles
BEGIN:DAYLIGHT
DTSTART:20230312T030000
TZOFFSETFROM:-0800
TZOFFSETTO:-0700
TZNAME:PDT
END:DAYLIGHT
END:VTIMEZONE
END:VCALENDAR