BEGIN:VCALENDAR
VERSION:2.0
PRODID:-//wp-events-plugin.com//7.0.5//EN
TZID:America/Los_Angeles
X-WR-TIMEZONE:America/Los_Angeles
BEGIN:VEVENT
UID:2591@newportbeach.com
DTSTART;TZID=America/Los_Angeles:20260403T180000
DTEND;TZID=America/Los_Angeles:20260403T180000
DTSTAMP:20260327T195539Z
URL:https://www.newportbeach.com/events/book-launch-celebration-shed-blood
 -receiving-the-blood-of-jesus-christ/
SUMMARY:BOOK LAUNCH CELEBRATION! SHED BLOOD: Receiving the Blood of Jesus C
 hrist
DESCRIPTION:[vc_row][vc_column][vc_column_text]EVENT TITLE:\nBOOK LAUNCH CE
 LEBRATION\nSHED BLOOD: Receiving the Blood of Jesus Christ\n\nDATE: April 
 3\, 2026\nTIME: 6:00 pm\nLOCATION: VOCO Hotel (Formerly The Hills Hotel) 2
 5205 la Paz Rd\, Laguna Hills\, CA\, 92653\nREGISTRATION LINK: (Shortened 
 URL) https://forms.office.com/r/YarQF7JsFy  \nCONTACT HOST: Dawn marie M
 urphy\nPhone Number: 949-774-9874\nEmail: u4cministries@outlook.com\n\nDES
 CRIPTION:\n\nYOU ARE INVITED!\nJoin us for the LIVE Book Launch of SHED BL
 OOD: Receiving the Blood of Jesus Christ\, hosted by Dawn marie Murphy.\n\
 nGet ready for a powerful\, uplifting\, and unforgettable night as we cele
 brate the live launch of SHED BLOOD: Receiving the Blood of Jesus Christ -
  on Good Friday\, a day that changed everything.\nThis is not just a book 
 launch.\nThis is a celebration filled with purpose\, energy\, and real con
 nections.\nCome experience a night that will lift your spirit\, challenge 
 you to grow\, and leave you with great new connections\, long after it end
 s.\n\nAGENDA\nThis isn’t a sit-and-listen kind of night…It’s an expe
 rience.\n• Cocktail Hour (6–7 PM) - Relax\, connect\, and meet amazing
  people\n• Live Book Launch (7–8:30 PM)- A powerful and engaging messa
 ge that brings the book to life (MC Helen Woo)\n• ✍️ Book Signing - 
 Meet the author (Dawn marie Murphy) and get your signed copy\n• Music + 
 Dancing + Celebration (8:30 PM onward) - Stay\, celebrate\, and bring your
  dancing shoes! (DJ Ryan Duncan)\n• ️ Lite Bites &amp\; Great Energy d
 uring the event\n• ️ VIP Packages Available for those who want a more 
 personal experience\nA NIGHT FOR EVERYONE TO CONNECT[/vc_column_text][vc_b
 tn title="RSVP HERE" color="danger" align="center" link="url:https%3A%2F%2
 Fforms.office.com%2FPages%2FResponsePage.aspx%3Fid%3DDQSIkWdsW0yxEjajBLZtr
 QAAAAAAAAAAAAMAAaoPotdUMzkyRDhPMVdNSUFSOEdVNjRKMTdUOEFKUS4u"][vc_single_im
 age image="633443" img_size="full" alignment="center"][/vc_column][/vc_row
 ]
ATTACH;FMTTYPE=image/jpeg:https://www.newportbeach.com/wp-content/uploads/
 2026/03/RECEIVING.png
CATEGORIES:Local Events
LOCATION:VOCO Hotel\, 25205 La Paz Rd\, Laguna Hills\, CA\, 92653\, United 
 States
X-APPLE-STRUCTURED-LOCATION;VALUE=URI;X-ADDRESS=25205 La Paz Rd\, Laguna Hi
 lls\, CA\, 92653\, United States;X-APPLE-RADIUS=100;X-TITLE=VOCO Hotel:geo
 :0,0
END:VEVENT
BEGIN:VTIMEZONE
TZID:America/Los_Angeles
X-LIC-LOCATION:America/Los_Angeles
BEGIN:DAYLIGHT
DTSTART:20260308T030000
TZOFFSETFROM:-0800
TZOFFSETTO:-0700
TZNAME:PDT
END:DAYLIGHT
END:VTIMEZONE
END:VCALENDAR