BEGIN:VCALENDAR
VERSION:2.0
PRODID:-//wp-events-plugin.com//7.0.5//EN
TZID:America/Los_Angeles
X-WR-TIMEZONE:America/Los_Angeles
BEGIN:VEVENT
UID:2192@newportbeach.com
DTSTART;TZID=America/Los_Angeles:20241003T180000
DTEND;TZID=America/Los_Angeles:20241003T213000
DTSTAMP:20240917T164700Z
URL:https://www.newportbeach.com/events/bayside-celebrates-its-silver-anni
 versary-with-an-exclusive-silver-oak-cellars-wine-pairing-dinner-october-3
 /
SUMMARY:Bayside Celebrates its Silver Anniversary with an Exclusive Silver 
 Oak Cellars Wine Pairing Dinner October 3
DESCRIPTION:[vc_row][vc_column][vc_single_image image="625142" img_size="Fu
 ll"][vc_btn title="Tickets" style="3d" shape="square" color="info" link="u
 rl:https%3A%2F%2Fwww.diningasart.com%2Fexclusive-wine-pairing-dinner-regis
 tration%2F|target:_blank"][vc_column_text]\nBayside Restaurant is celebrat
 ing 25 years of fine dining service in Newport Beach with an exclusive win
 e airing dinner October 3\, featuring an exquisite five-course chef’s me
 nu paired with renowned wines from the award-winning producers at Silver O
 ak Cellars and Twomey. This luxe dining experience has been thoughtfully c
 rafted to highlight the nuances of each wine and dish served\, including a
  hors d'oeuvres trio paired with a 2022 Twomey Sauvignon Blanc\, White Kin
 g Salmon paired with 2022 Twomey Russian River Pinot Noir\, Venison Loin M
 edallions with 2019 Alexander Valley Silver Oak Cabernet Sauvignon\, and a
  New York Strip Steak served with 2018 Napa Valley Silver Oak Cabernet Sau
 vignon. To complete the evening\, indulge in a decadent Crème Brûlée se
 rved alongside coffee or tea\, the perfect sweet finish to an extraordinar
 y meal.\nWith only 20 seats available\, this intimate evening offers a rar
 e opportunity to savor an exquisitely elegant culinary experience at one o
 f Newport Beach’s top fine dining restaurants\, which has been a staple 
 in the dining community for 25 years. Tickets are $160 per person (inclusi
 ve of tax/gratuity)\, and advance purchase is required. To reserve your se
 at\, call (949) 721-1222 or purchase tickets at https://www.diningasart.c
 om/exclusive-wine-pairing-dinner-registration/.\n[/vc_column_text][/vc_col
 umn][/vc_row]
ATTACH;FMTTYPE=image/jpeg:https://www.newportbeach.com/wp-content/uploads/
 2024/09/Bayside.png
CATEGORIES:Local Events
LOCATION:Bayside Restaurant\, 900 Bayside Drive\, Newport Beach\, CA\, 9266
 0\, United States
GEO:33.6116411;-117.89376729999998
X-APPLE-STRUCTURED-LOCATION;VALUE=URI;X-ADDRESS=900 Bayside Drive\, Newport
  Beach\, CA\, 92660\, United States;X-APPLE-RADIUS=100;X-TITLE=Bayside Res
 taurant:geo:33.6116411,-117.89376729999998
END:VEVENT
BEGIN:VTIMEZONE
TZID:America/Los_Angeles
X-LIC-LOCATION:America/Los_Angeles
BEGIN:DAYLIGHT
DTSTART:20240310T030000
TZOFFSETFROM:-0800
TZOFFSETTO:-0700
TZNAME:PDT
END:DAYLIGHT
END:VTIMEZONE
END:VCALENDAR