BEGIN:VCALENDAR
VERSION:2.0
PRODID:-//wp-events-plugin.com//7.0.5//EN
TZID:America/Los_Angeles
X-WR-TIMEZONE:America/Los_Angeles
BEGIN:VEVENT
UID:2594@newportbeach.com
DTSTART;TZID=America/Los_Angeles:20260502T080000
DTEND;TZID=America/Los_Angeles:20260502T100000
DTSTAMP:20260326T210927Z
URL:https://www.newportbeach.com/events/assemblymember-diane-dixon-newport
 -beach-pier-cleanup/
SUMMARY:Newport Beach Pier Cleanup
DESCRIPTION:[vc_row][vc_column][vc_column_text][/vc_column_text][vc_btn tit
 le="RSVP HERE" color="primary" align="center" link="url:https%3A%2F%2Fdocs
 .google.com%2Fforms%2Fd%2Fe%2F1FAIpQLSfg0jT4d1A3M68iyOqqfxO7WDff1YA67Qazg7
 Qdz-qg2Hh2lw%2Fviewform"][/vc_column][/vc_row]
ATTACH;FMTTYPE=image/jpeg:https://www.newportbeach.com/wp-content/uploads/
 2026/03/Office-of-Assemblymember-Diane-Dixon-Newport-Beach-Pier-Cleanup-pd
 f.jpg
CATEGORIES:Local Events
LOCATION:Newport Beach Pier\, 72 Mc Fadden Pl.\, Newport Beach\, 92663\, Un
 ited States
GEO:33.6082066;-117.9288699
X-APPLE-STRUCTURED-LOCATION;VALUE=URI;X-ADDRESS=72 Mc Fadden Pl.\, Newport 
 Beach\, 92663\, United States;X-APPLE-RADIUS=100;X-TITLE=Newport Beach Pie
 r:geo:33.6082066,-117.9288699
END:VEVENT
BEGIN:VTIMEZONE
TZID:America/Los_Angeles
X-LIC-LOCATION:America/Los_Angeles
BEGIN:DAYLIGHT
DTSTART:20260308T030000
TZOFFSETFROM:-0800
TZOFFSETTO:-0700
TZNAME:PDT
END:DAYLIGHT
END:VTIMEZONE
END:VCALENDAR