BEGIN:VCALENDAR
VERSION:2.0
PRODID:-//wp-events-plugin.com//7.0.5//EN
TZID:America/Los_Angeles
X-WR-TIMEZONE:America/Los_Angeles
BEGIN:VEVENT
UID:184@newportbeach.com
DTSTART;TZID=America/Los_Angeles:20150402T071500
DTEND;TZID=America/Los_Angeles:20150402T083000
DTSTAMP:20150319T192641Z
URL:https://www.newportbeach.com/events/april-wakeup-homeland-security/
SUMMARY:APRIL WAKE UP! Newport - Breakfast with Homeland Security
DESCRIPTION:[button href="https://newportbeach.com/wp-content/uploads/2015/
 03/WakeUpNewport-April-2015-Homelandsecurity.pdf" size="medium" textcolor=
 "#ffffff"]Event Flyer (PDF)[/button]\n\nFeaturing a Special Guest Panel\n\
 nJeremy Thompson\nDirector of Marine Operations\nDepartment of Homeland Se
 curity\nCustoms and Border Protection\nOffice of Air and Marine\n\nBeau G.
  Powers\nLieutenant Commander\nUnited States Coast Guard\n\nMark Dunbar\nP
 atrol Agent in Charge\nUnited States Border Patrol\n\nCheryl Davies\nSecti
 on Chief\, Tactical Operations\nU.S. Customs and Border Protection\n\n\n\n
 Come hear about...\n\n	 Illicit drug shipments coming through Newport Ha
 rbor.\n	 Illegal immigrants landing on Newport Beaches.\n	 Stopping terr
 orists from penetrating our border.\n	The Regional Coordinating Mechanism 
 (ReCoM)\n\n\n\n\nThe meeting will also feature updates from representative
 s of selected County\, State and Federal officials.\n\nBreakfast treats wi
 ll be provided by LE PAIN QUOTIDIEN.\n\nThis event is free to the public\
 , but please make reservations so we can plan for food and seating.\n\nCon
 tact: Pam Smith - psmith@newportbeach.com  -   (949) 729-4411\n\n&nbsp\
 ;
ATTACH;FMTTYPE=image/jpeg:https://www.newportbeach.com/wp-content/uploads/
 2015/03/homelandsecurity.jpg
CATEGORIES:Chamber Events,Featured
LOCATION:Newport Beach Public Library (Friends Room)\, 1000 Avocado Ave.\, 
 Newport Beach\, CA\, 92660\, United States
GEO:33.6078202;-117.87315109999997
X-APPLE-STRUCTURED-LOCATION;VALUE=URI;X-ADDRESS=1000 Avocado Ave.\, Newport
  Beach\, CA\, 92660\, United States;X-APPLE-RADIUS=100;X-TITLE=Newport Bea
 ch Public Library (Friends Room):geo:33.6078202,-117.87315109999997
END:VEVENT
BEGIN:VTIMEZONE
TZID:America/Los_Angeles
X-LIC-LOCATION:America/Los_Angeles
BEGIN:DAYLIGHT
DTSTART:20150308T030000
TZOFFSETFROM:-0800
TZOFFSETTO:-0700
TZNAME:PDT
END:DAYLIGHT
END:VTIMEZONE
END:VCALENDAR