BEGIN:VCALENDAR
VERSION:2.0
PRODID:-//wp-events-plugin.com//7.0.5//EN
TZID:America/Los_Angeles
X-WR-TIMEZONE:America/Los_Angeles
BEGIN:VEVENT
UID:1881@newportbeach.com
DTSTART;TZID=America/Los_Angeles:20230427T180000
DTEND;TZID=America/Los_Angeles:20230427T200000
DTSTAMP:20230404T154950Z
URL:https://www.newportbeach.com/events/april-sunset-networking-mixer-newp
 ort-beach-and-costa-mesa-chambers-at-time-nightclub/
SUMMARY:April Sunset Networking Mixer - Newport Beach and Costa Mesa Chambe
 rs at TIME Nightclub
DESCRIPTION:[vc_row][vc_column][vc_single_image image="617686" img_size="fu
 ll" alignment="center" style="vc_box_shadow_3d" onclick="img_link_large" c
 ss_animation="zoomIn"][/vc_column][/vc_row][vc_row][vc_column][vc_single_i
 mage image="617685" img_size="full" alignment="center" style="vc_box_shado
 w_3d" onclick="img_link_large" css_animation="zoomIn"][/vc_column][/vc_row
 ][vc_row][vc_column][vc_column_text]\nEvent Sponsored by\n\n[/vc_column_te
 xt][/vc_column][/vc_row][vc_row disable_element="yes"][vc_column][vc_media
 _grid item="mediaGrid_ScaleInWithIcon" initial_loading_animation="flipInY"
  grid_id="vc_gid:1680623222425-1320f852-3bf1-0" include="188576\,180582\,1
 80581\,180580\,180579"][/vc_column][/vc_row][vc_row][vc_column][vc_column_
 text]For more info...\n\nContact: Annette Malinowski - (949) 729-4410\nEma
 il: annette@newportbeach.com[/vc_column_text][/vc_column][/vc_row]
ATTACH;FMTTYPE=image/jpeg:https://www.newportbeach.com/wp-content/uploads/
 2017/03/timenigthclub.jpg
CATEGORIES:Chamber Events,Featured
LOCATION:TIME Nightclub\, 1875 Newport Blvd. B245\, Costa Mesa\, CA\, Unite
 d States
GEO:33.6427511;-117.9179244
X-APPLE-STRUCTURED-LOCATION;VALUE=URI;X-ADDRESS=1875 Newport Blvd. B245\, C
 osta Mesa\, CA\, United States;X-APPLE-RADIUS=100;X-TITLE=TIME Nightclub:g
 eo:33.6427511,-117.9179244
END:VEVENT
BEGIN:VTIMEZONE
TZID:America/Los_Angeles
X-LIC-LOCATION:America/Los_Angeles
BEGIN:DAYLIGHT
DTSTART:20230312T030000
TZOFFSETFROM:-0800
TZOFFSETTO:-0700
TZNAME:PDT
END:DAYLIGHT
END:VTIMEZONE
END:VCALENDAR