BEGIN:VCALENDAR
VERSION:2.0
PRODID:-//wp-events-plugin.com//7.0.5//EN
TZID:America/Los_Angeles
X-WR-TIMEZONE:America/Los_Angeles
BEGIN:VEVENT
UID:2443@newportbeach.com
DTSTART;TZID=America/Los_Angeles:20251016T170000
DTEND;TZID=America/Los_Angeles:20251016T210000
DTSTAMP:20250911T234451Z
URL:https://www.newportbeach.com/events/anaheim-ducks-chamber-night/
SUMMARY:Anaheim Ducks: Chamber Night!
DESCRIPTION:[vc_row][vc_column][vc_column_text]\nAnaheim Ducks vs Carolina 
 Hurricanes\n[/vc_column_text][vc_btn title="Tickets" style="3d" color="war
 ning" link="url:https%3A%2F%2Fducks.spinzo.com%2Fducks-vs-carolina-hurrica
 nes-2025-10-16-AXEVS%3Fgroup%3Dchamber-night-25kc%26affiliate%3Dnewport-be
 ach-chamber-of-commerce-c384|target:_blank"][vc_single_image image="630711
 " img_size="Full" onclick="custom_link" img_link_target="_blank" link="htt
 ps://ducks.spinzo.com/ducks-vs-carolina-hurricanes-2025-10-16-AXEVS?group=
 chamber-night-25kc&amp\;affiliate=newport-beach-chamber-of-commerce-c384"]
 [vc_column_text]\nWelcome to Chamber Night!\nWe're proud to partner with o
 ur local chambers to bring the community together for a night of networkin
 g and NHL hockey right here in our own backyard.\nEach ticket purchased fo
 r the event includes:\n\n\n 	·         Club-level ticket (in the
  300s) for the game\n 	·         General admission parking\n 	·
          Access to private networking event\n 	·        
  One drink ticket (redeemable for beer\, wine\, soda or water)\n 	·  
        Complimentary light bites during the networking event.\n\n[/
 vc_column_text][/vc_column][/vc_row]
ATTACH;FMTTYPE=image/jpeg:https://www.newportbeach.com/wp-content/uploads/
 2025/09/2025-26_ADHC_Sales_Chamber-Night-Flyer_8.5x11-scaled.jpg
CATEGORIES:Local Events
LOCATION:Honda Center\, 2695 E. Katella Ave.\, Anaheim\, CA\, 92806\, Unite
 d States
X-APPLE-STRUCTURED-LOCATION;VALUE=URI;X-ADDRESS=2695 E. Katella Ave.\, Anah
 eim\, CA\, 92806\, United States;X-APPLE-RADIUS=100;X-TITLE=Honda Center:g
 eo:0,0
END:VEVENT
BEGIN:VTIMEZONE
TZID:America/Los_Angeles
X-LIC-LOCATION:America/Los_Angeles
BEGIN:DAYLIGHT
DTSTART:20250309T030000
TZOFFSETFROM:-0800
TZOFFSETTO:-0700
TZNAME:PDT
END:DAYLIGHT
END:VTIMEZONE
END:VCALENDAR