BEGIN:VCALENDAR
VERSION:2.0
PRODID:-//wp-events-plugin.com//7.0.5//EN
TZID:America/Los_Angeles
X-WR-TIMEZONE:America/Los_Angeles
BEGIN:VEVENT
UID:2556@newportbeach.com
DTSTART;TZID=America/Los_Angeles:20260321T090000
DTEND;TZID=America/Los_Angeles:20260321T090000
DTSTAMP:20260209T164532Z
URL:https://www.newportbeach.com/events/american-legion-march-madness-ruck
 -march/
SUMMARY:American Legion - March Madness Ruck March
DESCRIPTION:
ATTACH;FMTTYPE=image/jpeg:https://www.newportbeach.com/wp-content/uploads/
 2026/02/Screenshot-2026-02-09-084243.png
CATEGORIES:Local Events
LOCATION:Huntington Beach Pier\, 325 Pacific Coast Hwy\,\, Huntington Beach
 \, CA\, 92648\, United States
X-APPLE-STRUCTURED-LOCATION;VALUE=URI;X-ADDRESS=325 Pacific Coast Hwy\,\, H
 untington Beach\, CA\, 92648\, United States;X-APPLE-RADIUS=100;X-TITLE=Hu
 ntington Beach Pier:geo:0,0
END:VEVENT
BEGIN:VTIMEZONE
TZID:America/Los_Angeles
X-LIC-LOCATION:America/Los_Angeles
BEGIN:DAYLIGHT
DTSTART:20260308T030000
TZOFFSETFROM:-0800
TZOFFSETTO:-0700
TZNAME:PDT
END:DAYLIGHT
END:VTIMEZONE
END:VCALENDAR