BEGIN:VCALENDAR
VERSION:2.0
PRODID:-//wp-events-plugin.com//7.0.5//EN
TZID:America/Los_Angeles
X-WR-TIMEZONE:America/Los_Angeles
BEGIN:VEVENT
UID:551@newportbeach.com
DTSTART;TZID=America/Los_Angeles:20170407T073000
DTEND;TZID=America/Los_Angeles:20170407T083000
DTSTAMP:20170216T230838Z
URL:https://www.newportbeach.com/events/ambassador-meeting-3/
SUMMARY:Ambassador Meeting
DESCRIPTION:April's Ambassador Meeting will be held on April 7\, 2017 from
  7:30-8:30am at Back Bay Bistro.\n\nPlease plan on arriving by 7:20am.\n
 \nPlease contact the Chamber if you will not be in attendance.
CATEGORIES:Chamber Committee Meetings
LOCATION:The Back Bay Bistro at the Newport Dunes Waterfront Resort\, 1131 
 Back Bay Drive\, Newport Beach\, CA\, 92660\, United States
GEO:33.6152657;-117.8921934
X-APPLE-STRUCTURED-LOCATION;VALUE=URI;X-ADDRESS=1131 Back Bay Drive\, Newpo
 rt Beach\, CA\, 92660\, United States;X-APPLE-RADIUS=100;X-TITLE=The Back 
 Bay Bistro at the Newport Dunes Waterfront Resort:geo:33.6152657,-117.8921
 934
END:VEVENT
BEGIN:VTIMEZONE
TZID:America/Los_Angeles
X-LIC-LOCATION:America/Los_Angeles
BEGIN:DAYLIGHT
DTSTART:20170312T030000
TZOFFSETFROM:-0800
TZOFFSETTO:-0700
TZNAME:PDT
END:DAYLIGHT
END:VTIMEZONE
END:VCALENDAR