BEGIN:VCALENDAR
VERSION:2.0
PRODID:-//wp-events-plugin.com//7.0.5//EN
TZID:America/Los_Angeles
X-WR-TIMEZONE:America/Los_Angeles
BEGIN:VEVENT
UID:1000@newportbeach.com
DTSTART;TZID=America/Los_Angeles:20180519T130000
DTEND;TZID=America/Los_Angeles:20180519T170000
DTSTAMP:20180514T191130Z
URL:https://www.newportbeach.com/events/alexander-marine-demo-day/
SUMMARY:Alexander Marine Demo Day
DESCRIPTION:
CATEGORIES:Local Events
LOCATION:Alexander Marine USA\, 2101 W. Coast Hwy\, Newport Beach\, CA\, 92
 663\, United States
GEO:33.617859;-117.92012320000003
X-APPLE-STRUCTURED-LOCATION;VALUE=URI;X-ADDRESS=2101 W. Coast Hwy\, Newport
  Beach\, CA\, 92663\, United States;X-APPLE-RADIUS=100;X-TITLE=Alexander M
 arine USA:geo:33.617859,-117.92012320000003
END:VEVENT
BEGIN:VTIMEZONE
TZID:America/Los_Angeles
X-LIC-LOCATION:America/Los_Angeles
BEGIN:DAYLIGHT
DTSTART:20180311T030000
TZOFFSETFROM:-0800
TZOFFSETTO:-0700
TZNAME:PDT
END:DAYLIGHT
END:VTIMEZONE
END:VCALENDAR