BEGIN:VCALENDAR
VERSION:2.0
PRODID:-//wp-events-plugin.com//7.0.5//EN
TZID:America/Los_Angeles
X-WR-TIMEZONE:America/Los_Angeles
BEGIN:VEVENT
UID:1090@newportbeach.com
DTSTART;TZID=America/Los_Angeles:20181007T100000
DTEND;TZID=America/Los_Angeles:20181007T153000
DTSTAMP:20181003T202847Z
URL:https://www.newportbeach.com/events/57th-annual-sandcastle-contest/
SUMMARY:57th Annual Sandcastle Contest
DESCRIPTION:[vc_row][vc_column][vc_single_image image="349551" img_size="fu
 ll" alignment="center"][/vc_column][/vc_row][vc_row][vc_column][vc_column_
 text]Bring your team to the 57th Annual Sandcastle Contest and have a chan
 ce to win cash prizes and have a great day at the beach! This year's theme
  is "Have a Ball!" This long-running event is presented by the Commodores 
 Club of the Newport Beach Chamber of Commerce and attracts thousands of sp
 ectators and contest participants ranging from seasoned professionals to f
 irst–timers. Get your team together – family\, friends\, work\, church
  or school group – sign up now or come to the beach to watch. Event part
 icipants receive a free T-Shirt.\nTo enter your team\, please sign up onli
 ne below.\n[/vc_column_text][vc_row_inner][vc_column_inner][vc_column_text
 ]\nCheck out video from last year's event...\n[/vc_column_text][vc_raw_htm
 l]JTNDY2VudGVyJTNFJTNDaWZyYW1lJTIwd2lkdGglM0QlMjI3NTAlMjIlMjBoZWlnaHQlM0Ql
 MjI0ODAlMjIlMjBzcmMlM0QlMjJodHRwcyUzQSUyRiUyRnd3dy55b3V0dWJlLmNvbSUyRmVtYm
 VkJTJGMWtQLUotNllGVUUlM0ZyZWwlM0QwJTIyJTIwZnJhbWVib3JkZXIlM0QlMjIwJTIyJTIw
 YWxsb3clM0QlMjJhdXRvcGxheSUzQiUyMGVuY3J5cHRlZC1tZWRpYSUyMiUyMGFsbG93ZnVsbH
 NjcmVlbiUzRSUzQyUyRmlmcmFtZSUzRSUzQyUyRmNlbnRlciUzRQ==[/vc_raw_html][/vc_c
 olumn_inner][/vc_row_inner][/vc_column][/vc_row][vc_row][vc_column][vc_sin
 gle_image image="360625" img_size="full" alignment="center" css_animation=
 "none" title="2018 Sponsors"][/vc_column][/vc_row][vc_row][vc_column width
 ="1/2"][vc_column_text]\n\nVisit our Facebook Page\n\n[/vc_column_text][/v
 c_column][vc_column width="1/2"][vc_btn title="Sand Castle Contest Rules" 
 color="primary" size="lg" i_type="material" i_icon_material="vc-material v
 c-material-live_help" add_icon="true" link="url:https%3A%2F%2Fnpbcoc2021.w
 pengine.com%2Fwp-content%2Fuploads%2F2017%2F06%2FContest-Rules.pdf||target
 :%20_blank|"][/vc_column][/vc_row][vc_row][vc_column][vc_gallery type="ima
 ge_grid" images="277298\,277285\,277236\,277223\,277255\,277227\,277178\,2
 77173\,277176\,277165\,277153\,277148" css_animation="none" title="Picture
 s from 2017"][vc_btn title="Click Here for More Pictures from 2017" size="
 lg" align="center" link="url:https%3A%2F%2Fnpbcoc2021.wpengine.com%2Fgalle
 ry%2F56th-annual-sandcastle-contest%2F||target:%20_blank|"][/vc_column][/v
 c_row][vc_row][vc_column][vc_separator][/vc_column][/vc_row][vc_row][vc_co
 lumn][gravityform id="70" title="false" description="false" ajax="false"][
 /vc_column][/vc_row]
ATTACH;FMTTYPE=image/jpeg:https://www.newportbeach.com/wp-content/uploads/
 2017/10/0112.jpg
CATEGORIES:Chamber Events,Featured
LOCATION:Corona del Mar State Beach\, 3100 Ocean Blvd.\, Newport Beach\, CA
 \, United States
GEO:33.59338609813276;-117.8762861523926
X-APPLE-STRUCTURED-LOCATION;VALUE=URI;X-ADDRESS=3100 Ocean Blvd.\, Newport 
 Beach\, CA\, United States;X-APPLE-RADIUS=100;X-TITLE=Corona del Mar State
  Beach:geo:33.59338609813276,-117.8762861523926
END:VEVENT
BEGIN:VTIMEZONE
TZID:America/Los_Angeles
X-LIC-LOCATION:America/Los_Angeles
BEGIN:DAYLIGHT
DTSTART:20180311T030000
TZOFFSETFROM:-0800
TZOFFSETTO:-0700
TZNAME:PDT
END:DAYLIGHT
END:VTIMEZONE
END:VCALENDAR