BEGIN:VCALENDAR
VERSION:2.0
PRODID:-//wp-events-plugin.com//7.0.5//EN
TZID:America/Los_Angeles
X-WR-TIMEZONE:America/Los_Angeles
BEGIN:VEVENT
UID:642@newportbeach.com
DTSTART;TZID=America/Los_Angeles:20171001T100000
DTEND;TZID=America/Los_Angeles:20171001T153000
DTSTAMP:20170920T181951Z
URL:https://www.newportbeach.com/events/56th-annual-sandcastle-contest/
SUMMARY:56th Annual Sandcastle Contest
DESCRIPTION:[vc_row][vc_column][vc_single_image image="261230" img_size="fu
 ll" alignment="center"][/vc_column][/vc_row][vc_row][vc_column width="2/3"
 ][vc_column_text]Argg! Bring your team to the 56th Annual Sandcastle Conte
 st and have a chance to win cash prizes and have a great day at the beach!
  This year's theme is "Pirates of the Pacific." This long-running event is
  presented by the Commodores Club of the Newport Beach Chamber of Commerce
  and attracts thousands of spectators and contest participants ranging fro
 m seasoned professionals to first–timers. Get your team together – fam
 ily\, friends\, work\, church or school group – sign up now or come to t
 he beach to watch. Event participants receive a free T-Shirt.\nTo enter yo
 ur team\, please sign up online below.\n[/vc_column_text][/vc_column][vc_c
 olumn width="1/3"][vc_custom_heading text="Come see Captain Jack!" google_
 fonts="font_family:Boogaloo%3Aregular|font_style:400%20regular%3A400%3Anor
 mal"][vc_single_image image="265044" img_size="medium" style="vc_box_shado
 w_3d"][/vc_column][/vc_row][vc_row][vc_column][vc_single_image image="2752
 71" img_size="full" alignment="center" css_animation="appear"][/vc_column]
 [/vc_row][vc_row][vc_column width="1/2"][vc_column_text]\n\nVisit our Face
 book Page\n\n[/vc_column_text][/vc_column][vc_column width="1/2"][vc_btn t
 itle="2017 Sand Castle Contest Rules" color="primary" size="lg" i_type="ma
 terial" i_icon_material="vc-material vc-material-live_help" add_icon="true
 " link="url:https%3A%2F%2Fnpbcoc2021.wpengine.com%2Fwp-content%2Fuploads%2
 F2017%2F06%2FContest-Rules.pdf||target:%20_blank|"][/vc_column][/vc_row][v
 c_row][vc_column][vc_gallery type="image_grid" images="165871\,165850\,165
 820\,165807\,165770\,165725\,165764\,165769\,165791\,165821\,165874" css_a
 nimation="none" title="Pictures from 2016"][/vc_column][/vc_row][vc_row][v
 c_column][vc_btn title="Click Here for More Pictures from 2016" size="lg" 
 align="center" link="url:https%3A%2F%2Fnpbcoc2021.wpengine.com%2Fgallery%2
 F55th-annual-sandcastle-contest%2F||target:%20_blank|"][/vc_column][/vc_ro
 w]
ATTACH;FMTTYPE=image/jpeg:https://www.newportbeach.com/wp-content/uploads/
 2016/10/0039-1.jpg
CATEGORIES:Chamber Events,Featured
LOCATION:Corona del Mar State Beach\, 3100 Ocean Blvd.\, Newport Beach\, CA
 \, United States
GEO:33.59338609813276;-117.8762861523926
X-APPLE-STRUCTURED-LOCATION;VALUE=URI;X-ADDRESS=3100 Ocean Blvd.\, Newport 
 Beach\, CA\, United States;X-APPLE-RADIUS=100;X-TITLE=Corona del Mar State
  Beach:geo:33.59338609813276,-117.8762861523926
END:VEVENT
BEGIN:VTIMEZONE
TZID:America/Los_Angeles
X-LIC-LOCATION:America/Los_Angeles
BEGIN:DAYLIGHT
DTSTART:20170312T030000
TZOFFSETFROM:-0800
TZOFFSETTO:-0700
TZNAME:PDT
END:DAYLIGHT
END:VTIMEZONE
END:VCALENDAR