BEGIN:VCALENDAR
VERSION:2.0
PRODID:-//wp-events-plugin.com//7.0.5//EN
TZID:America/Los_Angeles
X-WR-TIMEZONE:America/Los_Angeles
BEGIN:VEVENT
UID:74@newportbeach.com
DTSTART;TZID=America/Los_Angeles:20140604T180000
DTEND;TZID=America/Los_Angeles:20140604T203000
DTSTAMP:20140509T192704Z
URL:https://www.newportbeach.com/events/53rd-annual-athletic-awards-dinner
 /
SUMMARY:53rd Annual Athletic Awards Dinner
DESCRIPTION:Outstanding student athletes from Newport Harbor\, Corona del M
 ar and Sage Hill Schools will be honored for their athletic achievements a
 t this newly formatted dinner event (formerly the event was a breakfast). 
 In addition\, special coaches will be honored.\n\nThe event will also feat
 ure a special guest speaker.\nBob Ctvrtlik\n\nThree Time Olympian in Volle
 yball\nGold and Bronze Medalist\n\nRobert (Bob) J. Ctvrtlik is a three-tim
 e Olympian in the sport of volleyball and served as one of the three U.S. 
 members of the International Olympic Committee from 1996 through 2012. He
 ’s served for 14 years as a member of the IOC Athletes’ Commission\, t
 he link between active athletes and the International Olympic Committee. I
 n 2006\, he was named to the position of 1st Vice President\, Internationa
 l by the USOC Board of Directors and served under Chairman Peter Ueberroth
 . Heralded by many as one of the best serve receivers to have played the s
 port of volleyball\, Ctvrtlik competed for the United States at the 1988 O
 lympic Games in which the U.S. won the gold medal\, the 1992 Olympic Games
  in which the U.S. brought home the bronze medal\, and the 1996 Olympic Ga
 mes when he captained the USA Volleyball Team.\n\nINDIVIDUAL TICKETS - $50
  each\n\n	Tickets are $50 each and include dinner and parking.\n\n\nSPONSO
 RSHIP OPPORTUNITIES\nTable Sponsor - $500\n\n	BRAND VISIBILITY - Your comp
 any name will be listed in the event program.\n	Includes a table for ten p
 eople (reserve three seats for a student athlete and his or her parents\, 
 and table signage.\n\nPresenting Sponsor (One Available) - $2\,000\n\n	BRA
 ND VISIBILITY - Your logo and/or company name will be incorporated into al
 l marketing material\, program advertisement\, e-newsletter\, flyers and m
 ailings.\n	PROMOTE YOUR BUSINESS - Deliver a one-minute message from the p
 odium\, receive an on-stage mention at the event\, and place promotional p
 ieces on tables.\n	Includes a table for ten people (7 seats are available 
 for the sponsor with three seats reserved for a student athlete and his or
  her parents) and table signage.\n\nFor sponsorship information\, please c
 all Kathleen Sanchez at 949-729-4400.
ATTACH;FMTTYPE=image/jpeg:https://www.newportbeach.com/wp-content/uploads/
 2014/03/awards-event.jpg
CATEGORIES:Chamber Events
LOCATION:Radisson Hotel Newport Beach\, 4545 MacArthur Blvd\, Newport Beach
 \, CA\, 90018\, United States
GEO:33.6679698;-117.86558769999999
X-APPLE-STRUCTURED-LOCATION;VALUE=URI;X-ADDRESS=4545 MacArthur Blvd\, Newpo
 rt Beach\, CA\, 90018\, United States;X-APPLE-RADIUS=100;X-TITLE=Radisson 
 Hotel Newport Beach:geo:33.6679698,-117.86558769999999
END:VEVENT
BEGIN:VTIMEZONE
TZID:America/Los_Angeles
X-LIC-LOCATION:America/Los_Angeles
BEGIN:DAYLIGHT
DTSTART:20140309T030000
TZOFFSETFROM:-0800
TZOFFSETTO:-0700
TZNAME:PDT
END:DAYLIGHT
END:VTIMEZONE
END:VCALENDAR