BEGIN:VCALENDAR
VERSION:2.0
PRODID:-//wp-events-plugin.com//7.0.5//EN
TZID:America/Los_Angeles
X-WR-TIMEZONE:America/Los_Angeles
BEGIN:VEVENT
UID:1872@newportbeach.com
DTSTART;TZID=America/Los_Angeles:20230604T110000
DTEND;TZID=America/Los_Angeles:20230604T170000
DTSTAMP:20230308T004659Z
URL:https://www.newportbeach.com/events/28th-annual-balboa-island-parade-h
 orsin-around-island-style/
SUMMARY:28th Annual Balboa Island Parade - "Horsin' Around Island Style"
DESCRIPTION:[vc_row][vc_column][vc_column_text]\nThe 28th Annual\nBalboa Is
 land Parade\nSunday\, June 4th at 11:00 am\n“Horsin’ Around Island Sty
 le”\n[/vc_column_text][/vc_column][/vc_row][vc_row][vc_column][vc_single
 _image image="617006" img_size="full" alignment="center"][/vc_column][/vc_
 row][vc_row][vc_column][vc_column_text]Parade begins on Marine Ave. After-
 Party starts immediately following the parade in front of the Fire Station
  featuring our local band “The Fabulous Nomads”.\n\nA 28-year Island t
 radition filled with Children on Bikes\, Island Dogs\, Decorated Golf Cart
 s and Floats\, Horses\, Vintage Cars\, USC Marching Band\, Keystone Cops\,
  Drill Teams\, Marching School Bands\, Local Dignitaries and much more!\n\
 nBalboa Island is going WESTERN ISLAND STYLE so grab your cowboy boots and
  hat\, wear your island shirts and shorts\, bring your beach chairs\, and 
 join us for a fun day on the Island.[/vc_column_text][vc_column_text]\nBri
 dge closes at 10:45 am\, so get here early!\n[/vc_column_text][/vc_column]
 [/vc_row][vc_row][vc_column][vc_separator][/vc_column][/vc_row][vc_row][vc
 _column][vc_column_text]\nTo be a parade entry or sponsor please visit our
  website or you may pick up parade registration entry forms at the followi
 ng Balboa Island merchants:\nBalboa Island Museum\nIrvine Ranch Market\nWi
 lma’s\nIsland Market near Ferry\n[/vc_column_text][vc_btn title="For Mor
 e Info" color="primary" align="center" link="url:https%3A%2F%2Fwww.balboai
 slandnb.org%2F|target:_blank"][/vc_column][/vc_row][vc_row][vc_column][vc_
 column_text]\nSponsored by the Balboa Island Improvement Association\n[/vc
 _column_text][/vc_column][/vc_row]
ATTACH;FMTTYPE=image/jpeg:https://www.newportbeach.com/wp-content/uploads/
 2022/10/biia-logo.jpg
CATEGORIES:Local Events
LOCATION:Balboa Island\, 331 Marine Ave.\, Newport Beach\, CA\, United Stat
 es
GEO:33.6081609;-117.89002299999999
X-APPLE-STRUCTURED-LOCATION;VALUE=URI;X-ADDRESS=331 Marine Ave.\, Newport B
 each\, CA\, United States;X-APPLE-RADIUS=100;X-TITLE=Balboa Island:geo:33.
 6081609,-117.89002299999999
END:VEVENT
BEGIN:VTIMEZONE
TZID:America/Los_Angeles
X-LIC-LOCATION:America/Los_Angeles
BEGIN:DAYLIGHT
DTSTART:20230312T030000
TZOFFSETFROM:-0800
TZOFFSETTO:-0700
TZNAME:PDT
END:DAYLIGHT
END:VTIMEZONE
END:VCALENDAR