BEGIN:VCALENDAR
VERSION:2.0
PRODID:-//wp-events-plugin.com//7.0.5//EN
TZID:America/Los_Angeles
X-WR-TIMEZONE:America/Los_Angeles
BEGIN:VEVENT
UID:1709@newportbeach.com
DTSTART;TZID=America/Los_Angeles:20220827T160000
DTEND;TZID=America/Los_Angeles:20220827T190000
DTSTAMP:20220422T223959Z
URL:https://www.newportbeach.com/events/26th-annual-newport-beach-sherman-
 gardens-summer-garden-party/
SUMMARY:26th Annual Newport Beach Sherman Gardens Summer Garden Party
DESCRIPTION:[vc_row][vc_column][vc_column_text]\nTICKETS NOW ON SALE FOR TH
 E 26th ANNUAL NEWPORT BEACH SUMMER GARDEN PARTY \n[/vc_column_text][vc_col
 umn_text]\nThe 26th Annual Newport Beach Garden Tour\, hosted by Sherman L
 ibrary &amp\; Gardens’ Volunteer Association\, is happening virtually ag
 ain this year.  Get ready to view some spectacular gardens that otherwise
  might not be part of a ‘traditional’ Garden Tour.\nAll three Garden T
 our videos will be available to watch and re-watch at one’s leisure\, fr
 om the comfort of your home.  The Newport Beach Garden Tour grand finale 
 is the in-person Summer Garden Party on Saturday\, August 27th taking plac
 e from 4 pm until 7 pm at Sherman Gardens.\n[/vc_column_text][vc_separator
 ][/vc_column][/vc_row][vc_row][vc_column][vc_column_text]\nHighlights of t
 he Summer Garden Party include:\n[/vc_column_text][vc_single_image image="
 557102" img_size="full"][vc_column_text]\nArtists in the Garden painting a
 nd selling their art\n‘Inspired by Nature’ summer art exhibit by mosai
 cist Irina Charny\nGarden Party Hat Contest &amp\; Bouquet Bar\nDelicious 
 cuisine from Chef Jessica Roy at 608 Dahlia\nRaffle &amp\; Silent Auction\
 , Live Music\, and much\, much more!\n[/vc_column_text][/vc_column][/vc_ro
 w][vc_row][vc_column][vc_column_text]\nTickets for the Virtual Garden Tour
  are $25 for Members and $35 for Non-Members.\nTickets for the Virtual Gar
 den Tour and Summer Garden Party are $60 for Members and $80 for Non-Membe
 rs.\nProceeds support Sherman Library &amp\; Gardens’ children’s educa
 tion programs.\nFor more information\, call 949.673.2261.\n[/vc_column_tex
 t][vc_btn title="Purchase Tickets Here" color="success" align="center" lin
 k="url:https%3A%2F%2Fexperience.thesherman.org%2Fnewport-beach-virtual-gar
 den-tour-050722|target:_blank"][vc_separator][/vc_column][/vc_row][vc_row]
 [vc_column][vc_column_text]About Sherman Library &amp\; Gardens\n\nSherman
  Library &amp\; Gardens is a vibrant cultural center that provides the pub
 lic an oasis of inspiration\, education and appreciation of regional histo
 ry\, horticulture and the arts.  The 2.2 acre property boasts a nationall
 y renowned botanical garden and research library with collections related 
 to the history of the Pacific Southwest.  The Library &amp\; Gardens is a
  nonprofit organization sustained by the generosity of members\, friends\,
  and a dedicated Volunteer Association that help to support the Gardens\, 
 Library\, and a year-round calendar of educational programs and seasonal e
 xhibits for the community.  Often described as a “hidden gem” Sherman
  Library &amp\; Gardens is a jewel in the crown of Orange County\, Califor
 nia.  Located at 2647 E. Coast Hwy.\, Corona del Mar\, California 92625.[
 /vc_column_text][/vc_column][/vc_row]
ATTACH;FMTTYPE=image/jpeg:https://www.newportbeach.com/wp-content/uploads/
 2019/12/Sherman.jpg
CATEGORIES:Local Events
LOCATION:Sherman Library and Gardens\, 2647 East Coast Hwy.\, Corona del Ma
 r\, CA\, United States
GEO:33.601935;-117.87319430000002
X-APPLE-STRUCTURED-LOCATION;VALUE=URI;X-ADDRESS=2647 East Coast Hwy.\, Coro
 na del Mar\, CA\, United States;X-APPLE-RADIUS=100;X-TITLE=Sherman Library
  and Gardens:geo:33.601935,-117.87319430000002
END:VEVENT
BEGIN:VTIMEZONE
TZID:America/Los_Angeles
X-LIC-LOCATION:America/Los_Angeles
BEGIN:DAYLIGHT
DTSTART:20220313T030000
TZOFFSETFROM:-0800
TZOFFSETTO:-0700
TZNAME:PDT
END:DAYLIGHT
END:VTIMEZONE
END:VCALENDAR