BEGIN:VCALENDAR
VERSION:2.0
PRODID:-//wp-events-plugin.com//7.0.5//EN
TZID:America/Los_Angeles
X-WR-TIMEZONE:America/Los_Angeles
BEGIN:VEVENT
UID:2176@newportbeach.com
DTSTART;TZID=America/Los_Angeles:20241003T110000
DTEND;TZID=America/Los_Angeles:20241003T133000
DTSTAMP:20241002T155539Z
URL:https://www.newportbeach.com/events/2025-economic-forecast-featuring-u
 c-irvines-paul-merage-school-of-business/
SUMMARY:2025 Economic Forecast featuring UC Irvine’s Paul Merage School o
 f Business
DESCRIPTION:[vc_row][vc_column][vc_column_text]\nOnline reservations are no
 w closed. Please call 949-729-4400 for possible seating.\n[/vc_column_text
 ][/vc_column][/vc_row][vc_row][vc_column][vc_single_image image="624849" i
 mg_size="full" alignment="center" onclick="img_link_large" css_animation="
 fadeIn"][/vc_column][/vc_row][vc_row][vc_column][vc_custom_heading text="J
 oin us for our signature annual event\, as our focus is on the 2025 econom
 y to help with budgeting\, finance and investment decisions affecting you\
 , your business and your success." font_container="tag:p|font_size:24|text
 _align:left" use_theme_fonts="yes"][/vc_column][/vc_row][vc_row][vc_column
 ][vc_column_text]The 2025 Economic Forecast featuring the UCI Paul Merage 
 School of Business is presented by the Newport Beach Chamber of Commerce a
 nd is an annual event that attracts hundreds of Orange County business lea
 ders\, media and government officials and promises to deliver a powerful p
 rogram presented by an esteemed and unprecedented panel of experts.\n\nLun
 ch and Valet Parking included.\n\n\n\n\n[/vc_column_text][vc_column_text]\
 nPlease register below.\n[icon icon="arrow-down"]\n[/vc_column_text][/vc_c
 olumn][/vc_row][vc_row][vc_column][vc_single_image image="625237" img_size
 ="full" alignment="center"][/vc_column][/vc_row][vc_row][vc_column][vc_sin
 gle_image image="624847" img_size="large" alignment="center"][/vc_column][
 /vc_row][vc_row][vc_column width="1/2"][vc_column_text]\nCllick for SPONSO
 RSHIP INFORMATION\n[/vc_column_text][/vc_column][vc_column width="1/2"][vc
 _single_image image="625247" img_size="full" alignment="center" onclick="i
 mg_link_large"][/vc_column][vc_column][vc_column_text]\nFor Sponsorship in
 formation\, please contact Steve Rosansky at 949-729-4404 or Annette Malin
 owski at 949-729-4410.\n[/vc_column_text][/vc_column][/vc_row][vc_row][vc_
 column][gravityform id="279" title="false" description="false" ajax="false
 "][/vc_column][/vc_row][vc_row][vc_column][vc_text_separator title="Featur
 ed Guest Speakers" i_icon_fontawesome="fa fa-line-chart" i_background_styl
 e="rounded" border_width="3" add_icon="true"][vc_column_text]\n\nChristoph
 er Schwarz\n\n\n 	Faculty Director\, The Todd &amp\; Lisa Halbrook Center 
 for Investment &amp\; Wealth Management\n 	Professor\, Finance\, UC Irvine
 ’s Paul Merage School of Business\n\nChristopher Schwarz is a Professor 
 of Finance at UC Irvine’s Paul Merage School of Business as well as the 
 Faculty Director for the Todd &amp\; Lisa Halbrook Center for Investment a
 nd Wealth Management. During his time at UCI\, he has been published in al
 l leading academic and practitioner finance journals. His research has als
 o been cited by the New York Times\, LA Times\, Wall Street Journal\, and 
 the Financial Times and provided a number of economic forecasts in the com
 munity. Prior to arriving at UCI\, Christopher received his Ph.D. from the
  University of Massachusetts Amherst\, during which he was also a Visiting
  Doctoral Fellow at Yale University’s International Center of Finance. H
 e received his B.S. from Babson College in Wellesley\, MA.[/vc_column_text
 ][vc_text_separator title="" border_width="3"][/vc_column][/vc_row]
ATTACH;FMTTYPE=image/jpeg:https://www.newportbeach.com/wp-content/uploads/
 2024/09/600x600tile.jpg
CATEGORIES:Chamber Events,Featured
LOCATION:Balboa Bay Resort\, 1221 W. Coast Highway\, Newport Beach\, CA\, 9
 2663\, United States
GEO:33.615623;-117.914996
X-APPLE-STRUCTURED-LOCATION;VALUE=URI;X-ADDRESS=1221 W. Coast Highway\, New
 port Beach\, CA\, 92663\, United States;X-APPLE-RADIUS=100;X-TITLE=Balboa 
 Bay Resort:geo:33.615623,-117.914996
END:VEVENT
BEGIN:VTIMEZONE
TZID:America/Los_Angeles
X-LIC-LOCATION:America/Los_Angeles
BEGIN:DAYLIGHT
DTSTART:20240310T030000
TZOFFSETFROM:-0800
TZOFFSETTO:-0700
TZNAME:PDT
END:DAYLIGHT
END:VTIMEZONE
END:VCALENDAR