BEGIN:VCALENDAR
VERSION:2.0
PRODID:-//wp-events-plugin.com//7.0.5//EN
TZID:America/Los_Angeles
X-WR-TIMEZONE:America/Los_Angeles
BEGIN:VEVENT
UID:2014@newportbeach.com
DTSTART;TZID=America/Los_Angeles:20231212T173000
DTEND;TZID=America/Los_Angeles:20231212T210000
DTSTAMP:20231106T213125Z
URL:https://www.newportbeach.com/events/2023-mayors-reception-and-chamber-
 volunteer-awards-ceremony/
SUMMARY:2023 Mayor's Reception and Chamber Volunteer Awards Ceremony
DESCRIPTION:[vc_row][vc_column][vc_single_image image="621315" img_size="fu
 ll" alignment="center"][/vc_column][/vc_row][vc_row disable_element="yes"]
 [vc_column][vc_column_text]Hosted by the Commodores Club of the Newport Be
 ach Chamber of Commerce\, please join us for the Newport Beach Mayor's Rec
 eption to thank\, recognize and honor...\n• Outgoing Mayor Kevin Muldoon
 \n• Our Four New Council Members\nHors d’oeuvres | Steak and Turkey Ca
 rving Station | Salmon | Pasta | Desserts | No Host Bar\n\nThe event will 
 also feature recognition of the Chamber's Awards...\n\n 	Silver Anchor Awa
 rd\n 	Ambassador of the Year\n 	Navigate Young Professional of the Year\n\
 nThis event is expected to sell out\, so please make your reservations ear
 ly. Walk ups will only be accommodated on a space available basis.[/vc_col
 umn_text][/vc_column][/vc_row][vc_row disable_element="yes"][vc_column][vc
 _custom_heading text="Thank You To Our Sponsors" font_container="tag:h2|te
 xt_align:center" google_fonts="font_family:Alice%3Aregular|font_style:400%
 20regular%3A400%3Anormal"][vc_row_inner][vc_column_inner width="1/4"][vc_s
 ingle_image img_size="medium" alignment="center"][/vc_column_inner][vc_col
 umn_inner width="1/4"][vc_single_image image="290732" img_size="medium"][/
 vc_column_inner][vc_column_inner width="1/4"][vc_single_image image="29225
 9" img_size="medium"][/vc_column_inner][vc_column_inner width="1/4"][/vc_c
 olumn_inner][/vc_row_inner][/vc_column][/vc_row]
ATTACH;FMTTYPE=image/jpeg:https://www.newportbeach.com/wp-content/uploads/
 2014/11/cityhall.jpg
CATEGORIES:Chamber Events,Featured
LOCATION:The Back Bay Bistro at the Newport Dunes Waterfront Resort\, 1131 
 Back Bay Drive\, Newport Beach\, CA\, 92660\, United States
GEO:33.6152657;-117.8921934
X-APPLE-STRUCTURED-LOCATION;VALUE=URI;X-ADDRESS=1131 Back Bay Drive\, Newpo
 rt Beach\, CA\, 92660\, United States;X-APPLE-RADIUS=100;X-TITLE=The Back 
 Bay Bistro at the Newport Dunes Waterfront Resort:geo:33.6152657,-117.8921
 934
END:VEVENT
BEGIN:VTIMEZONE
TZID:America/Los_Angeles
X-LIC-LOCATION:America/Los_Angeles
BEGIN:STANDARD
DTSTART:20231105T010000
TZOFFSETFROM:-0700
TZOFFSETTO:-0800
TZNAME:PST
END:STANDARD
END:VTIMEZONE
END:VCALENDAR