BEGIN:VCALENDAR
VERSION:2.0
PRODID:-//wp-events-plugin.com//7.0.5//EN
TZID:America/Los_Angeles
X-WR-TIMEZONE:America/Los_Angeles
BEGIN:VEVENT
UID:1332@newportbeach.com
DTSTART;TZID=America/Los_Angeles:20191023T111500
DTEND;TZID=America/Los_Angeles:20191023T133000
DTSTAMP:20191021T220749Z
URL:https://www.newportbeach.com/events/2020-economic-forecast-featuring-t
 he-uci-paul-merage-school-of-business/
SUMMARY:SOLD OUT - 2020 Economic Forecast featuring the UCI Paul Merage Sch
 ool of Business
DESCRIPTION:[vc_row][vc_column][vc_single_image image="417539" img_size="fu
 ll" alignment="center" css_animation="fadeIn"][/vc_column][/vc_row][vc_row
 ][vc_column][vc_custom_heading text="Join us for our signature annual even
 t\, featuring three industry powerhouses as they focus on the future econo
 my to help with budgeting\, investing\, real estate\, the evolving changes
  in the healthcare and insurance system and how these issues will affect t
 he\n2020 Presidential election." font_container="tag:p|font_size:24|text_a
 lign:left" use_theme_fonts="yes"][/vc_column][/vc_row][vc_row][vc_column w
 idth="1/2"][vc_column_text]The 2020 Economic Forecast featuring the UCI Pa
 ul Merage School of Business is presented by the Newport Beach Chamber of
  Commerce and is an annual event that attracts hundreds of Orange County b
 usiness leaders\, media and government officials and promises to deliver a
  powerful program presented by an esteemed and unprecedented panel of expe
 rts.\n\nLunch included. Valet Parking - $10\n\nFor sponsorship informatio
 n\, please contact Steve Rosansky at 949-729-4404 or via eMail at steve@ne
 wportbeach.com.\n\nPlease register below to attend.\n\n\n\n\n[/vc_column_t
 ext][/vc_column][vc_column width="1/2"][vc_single_image image="419830" img
 _size="full" alignment="center"][/vc_column][/vc_row][vc_row][vc_column][v
 c_single_image image="418314" img_size="full" alignment="center"][/vc_colu
 mn][/vc_row][vc_row][vc_column][vc_text_separator title="Featured Guest Sp
 eakers" i_icon_fontawesome="fa fa-line-chart" i_background_style="rounded"
  border_width="3" add_icon="true"][vc_column_text]\n\nChristopher Schwarz\
 n\n\n 	Associate Professor\, Finance\, UC Irvine’s Paul Merage School o
 f Business\n 	Faculty Director\, University of California\, Irvine\, Cen
 ter for Investment and Wealth Management\n\nChristopher Schwarz is an Asso
 ciate Professor of Finance at UC Irvine’s Paul Merage School of Business
  as well as the Faculty Director for the Center for Investment and Wealth 
 Management. During his time at UCI\, he has been published in all leading 
 academic and practitioner finance journals. His research has also been cit
 ed by the New York Times\, LA Times\, Wall Street Journal\, and the Financ
 ial Times and provided a number of economic forecasts in the community. Pr
 ior to arriving at UCI\, Christopher received his Ph.D. from the Universit
 y of Massachusetts Amherst\, during which he was also a Visiting Doctoral 
 Fellow at Yale University’s International Center of Finance. He received
  his B.S. from Babson College in Wellesley\, MA.[/vc_column_text][vc_text_
 separator title="" border_width="3"][vc_column_text]\nBill McBride\n\n 	Cr
 eator of the Calculated Risk Blog\n\n 	Housing and Economic Analyst\n\nMr.
  McBride retired as a senior executive from a small public company in the 
 '90s.  He has been writing the Calculated Risk blog since January 2005\, 
 and is well known for his economic analysis\, especially in the housing ar
 ea.   He has appeared several times on Bloomberg’s “What’d You Mis
 s?” and was profiled in 2016 on Bloomberg’s “Masters of Business”.
   Mr. McBride holds an MBA\, and a degree in chemistry\, both from the Un
 iversity of California\, Irvine.[/vc_column_text][vc_text_separator title=
 "" border_width="3"][vc_column_text]\n\nRichard Afable\, MD\, MPH\n\n\n 	P
 resident and Board Chair\, MindOC\nRecently Retired President and C.E.O.\
 , St. Joseph Hoag Health\n\nRichard Afable\, MD\, MPH\, is the President 
 and board chair of MindOC\, a non-profit community benefit corporation cre
 ated in 2018 with the sole purpose of improving mental and behavioral heal
 th in the community of Orange County CA. MindOC does so primarily by suppo
 rting BeWell OC\, a community-based mental health organization comprised o
 f local government\, hospitals\, healthcare professionals\, the faith comm
 unity\, academia and other local community support organizations\, all str
 iving to lead the nation in optimal mental health and wellness for all res
 idents.\n\nDr. Afable is also the recently retired President and Chief Exe
 cutive Officer of St. Joseph Hoag Health (SJHH)\, an Orange County CA-base
 d integrated delivery system created by the affiliation of Hoag Memorial H
 ospital Presbyterian and the Southern California region of St. Joseph Heal
 th. SJHH is one of the largest healthcare organizations in Southern Califo
 rnia\, with a focus on population health and high value clinical care. SJH
 H includes 7 hospitals\, almost 2000 beds\, a 2000+ physician medical netw
 ork (425 employed\, over 1600 affiliated)\, over 5000 physicians on medica
 l staffs\, 12\,500 employees\, and $3.8 B in annual net patient revenue.\n
 \nConcurrently\, Dr. Afable was the Executive Vice President of the Southe
 rn California region of Providence St Joseph Health\, the largest integrat
 ed health system in the Western US.\n\nPrior to his current roles\, Dr. Af
 able served as President and Chief Executive Officer of Hoag Memorial Hosp
 ital Presbyterian from August 2005 until the creation of SJHH in March 201
 3. Hoag is an independent\, faith-based\, not-for-profit\, tertiary care h
 ospital system located in Newport Beach\, California. Hoag is the largest 
 provider of secondary\, tertiary and select quaternary healthcare services
  for the 3.1 million residents of Orange County\, California.[/vc_column_t
 ext][/vc_column][/vc_row]
ATTACH;FMTTYPE=image/jpeg:https://www.newportbeach.com/wp-content/uploads/
 2019/07/600x600tile.jpg
CATEGORIES:Chamber Events,Featured
LOCATION:Balboa Bay Resort\, 1221 W. Coast Highway\, Newport Beach\, CA\, 9
 2663\, United States
GEO:33.615623;-117.914996
X-APPLE-STRUCTURED-LOCATION;VALUE=URI;X-ADDRESS=1221 W. Coast Highway\, New
 port Beach\, CA\, 92663\, United States;X-APPLE-RADIUS=100;X-TITLE=Balboa 
 Bay Resort:geo:33.615623,-117.914996
END:VEVENT
BEGIN:VTIMEZONE
TZID:America/Los_Angeles
X-LIC-LOCATION:America/Los_Angeles
BEGIN:DAYLIGHT
DTSTART:20190310T030000
TZOFFSETFROM:-0800
TZOFFSETTO:-0700
TZNAME:PDT
END:DAYLIGHT
END:VTIMEZONE
END:VCALENDAR